Workbook

Sheet MHSW
I1: RENCANA KEGIATAN DAN ANGGARAN TAHUNAN
I2: SEKOLAH TINGGI AGAMA ISLAM HAJI AGUS SALIM
I3: TAHUN AKADEMIK : 2023/2024
A5: PEMUTAKHIRAN JUMLAH MAHASISWA AKTIF
A6: STAI HAJI AGUS SALIM
A7: SEMESTER GASAL 23/24
A9: NO | B9: PROGRAM STUDI | C9: TAHUN AKADEMIK | H9: JML
C10: 2019 | D10: 2020 | E10: 2021 | F10: 2022 | G10: 2023
A11: 1 | B11: PAI A | C11: 35 | D11: =53 -> 53 | E11: =32 -> 32 | F11: =28 -> 28 | G11: =44+1 -> 45 | H11: =SUM(C11:G11) -> 193
A12: 2 | B12: PAI B | C12: 77 | D12: =58 -> 58 | E12: =69 -> 69 | F12: =36+43+3 -> 82 | G12: =52+1 -> 53 | H12: =SUM(C12:G12) -> 339
A13: 3 | B13: HES | C13: 31 | D13: =18 -> 18 | E13: =22 -> 22 | F13: =30 -> 30 | G13: =22+3 -> 25 | H13: =SUM(C13:G13) -> 126
A14: 4 | H14: =SUM(C14:G14) -> 0
A15: 5 | H15: =SUM(C15:G15) -> 0
A16: 6 | H16: =SUM(C16:G16) -> 0
C17: =SUM(C11:C16) -> 143 | D17: =SUM(D11:D16) -> 129 | E17: =SUM(E11:E16) -> 123 | F17: =SUM(F11:F16) -> 140 | G17: =SUM(G11:G16) -> 123 | H17: =SUM(H11:H16) -> 658
A20: PEMUTAKHIRAN JUMLAH MAHASISWA AKTIF
A21: STAI HAJI AGUS SALIM
A22: SEMESTER GENAP 2023/2024
A24: NO | B24: PROGRAM STUDI | C24: TAHUN AKADEMIK | H24: JML
C25: 2019 | D25: 2020 | E25: 2021 | F25: 2022 | G25: 2023
A26: 1 | B26: PAI A | C26: 35 | D26: =53 -> 53 | E26: =32 -> 32 | F26: =28 -> 28 | G26: =44+1 -> 45 | H26: =SUM(C26:G26) -> 193
A27: 2 | B27: PAI B | C27: 77 | D27: =58 -> 58 | E27: =69 -> 69 | F27: =36+43+3 -> 82 | G27: =52+1 -> 53 | H27: =SUM(C27:G27) -> 339
A28: 3 | B28: HES | C28: 31 | D28: =18 -> 18 | E28: =22 -> 22 | F28: =30 -> 30 | G28: =22+3 -> 25 | H28: =SUM(C28:G28) -> 126
A29: 4 | H29: =SUM(C29:G29) -> 0
A30: 5 | H30: =SUM(C30:G30) -> 0
A31: 6 | H31: =SUM(C31:G31) -> 0
C32: =SUM(C26:C31) -> 143 | D32: =SUM(D26:D31) -> 129 | E32: =SUM(E26:E31) -> 123 | F32: =SUM(F26:F31) -> 140 | G32: =SUM(G26:G31) -> 123 | H32: =SUM(H26:H31) -> 658

Sheet POTENSI GASAL
A1: POTENSI PEMASUKAN
A2: STAI HAJI AGUS SALIM
A3: SEMESTER GASAL 2023/2024
A5: MABIMARU
A6: NO | B6: PROGRAM STUDI | C6: JML MHSW SMT 1 | D6: JML MHSW | E6: MABIMARU | G6: BESARAN POTENSI PEMASUKAN SMT 1 | H6: BESARAN POTENSI PEMASUKAN SMT 3,5,7
E7: SMT 1 | F7: SMT 3, 5, 7
A8: 1 | B8: PAI A | C8: =MHSW!G11 -> 45 | D8: =SUM(MHSW!D11:F11) -> 113 | E8: =1700000 -> 1700000 | G8: =C8*E8 -> 76500000 | H8: =D8*F8 -> 0
A9: 2 | B9: PAI B | C9: =MHSW!G12 -> 53 | D9: =SUM(MHSW!D12:F12) -> 209 | E9: =1700000 -> 1700000 | G9: =C9*E9 -> 90100000 | H9: =D9*F9 -> 0
A10: 3 | B10: HES | C10: =MHSW!G13 -> 25 | D10: =SUM(MHSW!D13:F13) -> 70 | E10: =1700000 -> 1700000 | G10: =C10*E10 -> 42500000 | H10: =D10*F10 -> 0
A11: 4 | G11: =C11*E11 -> 0 | H11: =D11*F11 -> 0
A12: JUMLAH POTENSI PEMASUKAN DARI SELURUH MHSW | G12: =SUM(G8:G11) -> 209100000 | H12: =SUM(H8:H11) -> 0
A13: JUMLAH TOTAL POTENSI PEMASUKAN DARI MHSW REGULER | H13: =SUM(G12+H12) -> 209100000
A16: UANG BANGUNAN
A17: NO | B17: PROGRAM STUDI | C17: JML MHSW SMT 1 | D17: JML MHSW | E17: UANG BANGUNAN | G17: BESARAN POTENSI PEMASUKAN SMT 1 | H17: BESARAN POTENSI PEMASUKAN SMT 3,5,7
E18: SMT 1 | F18: SMT 3, 5, 7 | J18: Yang belum melunasi Bangunan
A19: 1 | B19: PAI A | C19: =C8 -> 45 | D19: =0 -> 0 | E19: =1500000 -> 1500000 | G19: =C19*E19 -> 67500000 | H19: =D19*F19 -> 0 | J19: PAI A = 11 Mhs
A20: 2 | B20: PAI B | C20: =C9 -> 53 | D20: =0 -> 0 | E20: =2000000 -> 2000000 | G20: =C20*E20 -> 106000000 | H20: =D20*F20 -> 0 | J20: PAI B = 19 Mhs
A21: 3 | B21: HES | C21: =C10 -> 25 | D21: =0 -> 0 | E21: =1000000 -> 1000000 | G21: =C21*E21 -> 25000000 | H21: =D21*F21 -> 0 | J21: HES = 17 Mhs
A22: 4 | G22: =C22*E22 -> 0 | H22: =D22*F22 -> 0
A23: JUMLAH POTENSI PEMASUKAN DARI SELURUH MHSW | G23: =SUM(G19:G22) -> 198500000 | H23: =SUM(H19:H22) -> 0
A24: JUMLAH TOTAL POTENSI PEMASUKAN DARI MHSW REGULER | H24: =SUM(G23+H23) -> 198500000
A25: JUMLAH TOTAL POTENSI PEMASUKAN DARI MHSW REGULER PER 12 BULAN | H25: =H24/12 -> 16541667
A28: SPP
A29: NO | B29: PROGRAM STUDI | C29: JML MHSW SMT 1 | D29: JML MHSW | E29: BESARAN BIAYA SPP | G29: BESARAN POTENSI PEMASUKAN SMT 1 | H29: BESARAN POTENSI PEMASUKAN SMT 3,5,7 | J29: JUMLAH TOTAL POTENSI PEMASUKAN
E30: SMT 1 | F30: SMT 3, 5, 7 | J30: =SUM(G36+G47+G58+G69) -> 0
A31: 1 | B31: PAI A | C31: =C19 -> 45 | D31: =D8 -> 113 | E31: =300000*6 -> 1800000 | F31: =300000*6 -> 1800000 | G31: =C31*E31 -> 81000000 | H31: =D31*F31 -> 203400000
A32: 2 | B32: PAI B | C32: =C20 -> 53 | D32: =D9 -> 209 | E32: =350000*6 -> 2100000 | F32: =350000*6 -> 2100000 | G32: =C32*E32 -> 111300000 | H32: =D32*F32 -> 438900000
A33: 3 | B33: HES | C33: =C21 -> 25 | D33: =D10 -> 70 | E33: =300000*6 -> 1800000 | F33: =300000*6 -> 1800000 | G33: =C33*E33 -> 45000000 | H33: =D33*F33 -> 126000000
A34: 4 | G34: =C34*E34 -> 0 | H34: =D34*F34 -> 0
A35: JUMLAH POTENSI PEMASUKAN DARI SELURUH MHSW | G35: =SUM(G31:G34) -> 237300000 | H35: =SUM(H31:H34) -> 768300000
A36: JUMLAH TOTAL POTENSI PEMASUKAN DARI MHSW REGULER | H36: =SUM(G35+H35) -> 1005600000 | L36: =SUM(D31:D34) -> 392
A37: JUMLAH TOTAL POTENSI PEMASUKAN DARI MHSW REGULER PER 6 BULAN | H37: =H36/6 -> 167600000
A39: DAFTAR ULANG
A40: NO | B40: PROGRAM STUDI | C40: JML MHSW SMT 1 | D40: JML MHSW | E40: BESARAN BIAYA DAFTAR ULANG | G40: BESARAN POTENSI PEMASUKAN SMT 1 | H40: BESARAN POTENSI PEMASUKAN SMT 3,5,7
E41: SMT 1 | F41: SMT 3, 5, 7
A42: 1 | B42: PAI A | C42: =C31 -> 45 | D42: =D31 -> 113 | E42: =300000 -> 300000 | F42: =300000 -> 300000 | G42: =C42*E42 -> 13500000 | H42: =D42*F42 -> 33900000
A43: 2 | B43: PAI B | C43: =C32 -> 53 | D43: =D32 -> 209 | E43: =300000 -> 300000 | F43: =300000 -> 300000 | G43: =C43*E43 -> 15900000 | H43: =D43*F43 -> 62700000
A44: 3 | B44: HES | C44: =C33 -> 25 | D44: =D33 -> 70 | E44: =300000 -> 300000 | F44: =300000 -> 300000 | G44: =C44*E44 -> 7500000 | H44: =D44*F44 -> 21000000
A45: 4 | G45: =C45*E45 -> 0 | H45: =D45*F45 -> 0
A46: JUMLAH POTENSI PEMASUKAN DARI MHSW REGULER | G46: =SUM(G42:G45) -> 36900000 | H46: =SUM(H42:H45) -> 117600000 | K46: =SUM(C42:C45) -> 123 | L46: =SUM(D42:D45) -> 392
...

Sheet Estimasi Penerimaan Gasal
A1: RENCANA PENERIMAAN SEMESTER GASAL
A2: PROGRAM STUDI : PAI DAN HES
A3: SEKOLAH TINGGI AGAMA ISLAM HAJI AGUS SALIM
A4: TAHUN AKADEMIK : 2023/2024
C6: JENIS PENERIMAAN | D6: RENCANA (BULANAN) ESTIMASI PENERIMAAN | K6: TOTAL RENCANA PENERIMAAN
D7: AGUSTUS | E7: SEPTEMBER | F7: OKTOBER | G7: NOVEMBER | H7: DESEMBER | I7: JANUARI
C9: PENERIMAAN FAKULTAS
C11: Pendapatan Daftar Ulang | D11: ='POTENSI GASAL'!$H48 -> 25750000 | E11: ='POTENSI GASAL'!$H48 -> 25750000 | F11: ='POTENSI GASAL'!$H48 -> 25750000 | G11: ='POTENSI GASAL'!$H48 -> 25750000 | H11: ='POTENSI GASAL'!$H48 -> 25750000 | I11: ='POTENSI GASAL'!$H48 -> 25750000 | K11: =SUM(D11:J11) -> 154500000
C12: Pendapatan SPP Mahasiswa | D12: ='POTENSI GASAL'!$H37 -> 167600000 | E12: ='POTENSI GASAL'!$H37 -> 167600000 | F12: ='POTENSI GASAL'!$H37 -> 167600000 | G12: ='POTENSI GASAL'!$H37 -> 167600000 | H12: ='POTENSI GASAL'!$H37 -> 167600000 | I12: ='POTENSI GASAL'!$H37 -> 167600000 | K12: =SUM(D12:J12) -> 1005600000
C13: Pendapatan Dana Mabimaru | D13: ='POTENSI GASAL'!H13 -> 209100000 | K13: =SUM(D13:J13) -> 209100000
C14: Pendapatan Dana Bangunan | D14: ='POTENSI GASAL'!$H25 -> 16541667 | E14: ='POTENSI GASAL'!$H25 -> 16541667 | F14: ='POTENSI GASAL'!$H25 -> 16541667 | G14: ='POTENSI GASAL'!$H25 -> 16541667 | H14: ='POTENSI GASAL'!$H25 -> 16541667 | I14: ='POTENSI GASAL'!$H25 -> 16541667 | K14: =SUM(D14:J14) -> 99250000
C15: Pendapatan Dana Praktikum | K15: =SUM(D15:J15) -> 0
C16: Pendapatan Dana UTS | D16: ='POTENSI GASAL'!$H59 -> 25750000 | E16: ='POTENSI GASAL'!$H59 -> 25750000 | F16: ='POTENSI GASAL'!$H59 -> 25750000 | G16: ='POTENSI GASAL'!$H59 -> 25750000 | H16: ='POTENSI GASAL'!$H59 -> 25750000 | I16: ='POTENSI GASAL'!$H59 -> 25750000 | K16: =SUM(D16:J16) -> 154500000
C17: Pendapatan Dana UAS | D17: ='POTENSI GASAL'!$H70 -> 25750000 | E17: ='POTENSI GASAL'!$H70 -> 25750000 | F17: ='POTENSI GASAL'!$H70 -> 25750000 | G17: ='POTENSI GASAL'!$H70 -> 25750000 | H17: ='POTENSI GASAL'!$H70 -> 25750000 | I17: ='POTENSI GASAL'!$H70 -> 25750000 | K17: =SUM(D17:J17) -> 154500000
C18: Pendapatan PPLK/S
C19: Ujian Komprehensif | D19: ='POTENSI GASAL'!$H82 -> 13108333 | E19: ='POTENSI GASAL'!$H82 -> 13108333 | F19: ='POTENSI GASAL'!$H82 -> 13108333 | G19: ='POTENSI GASAL'!$H82 -> 13108333 | H19: ='POTENSI GASAL'!$H82 -> 13108333 | I19: ='POTENSI GASAL'!$H82 -> 13108333 | K19: =SUM(D19:J19) -> 78650000
K20: =SUM(D20:J20) -> 0
K21: =SUM(D21:J21) -> 0
K22: =SUM(D22:J22) -> 0
K23: =SUM(D23:J23) -> 0
K24: =SUM(D24:J24) -> 0
K25: =SUM(D25:J25) -> 0
K26: =SUM(D26:J26) -> 0
K27: =SUM(D27:J27) -> 0
C29: TOTAL | D29: =SUM(D11:D28) -> 483600000 | E29: =SUM(E11:E28) -> 274500000 | F29: =SUM(F11:F28) -> 274500000 | G29: =SUM(G11:G28) -> 274500000 | H29: =SUM(H11:H28) -> 274500000 | I29: =SUM(I11:I28) -> 274500000 | J29: =SUM(J11:J28) -> 0 | K29: =SUM(K11:K28) -> 1856100000

Sheet POTENSI GENAP
A1: POTENSI PEMASUKAN
A2: STAI HAJI AGUS SALIM
A3: SEMESTER GENAP 2023/2024
A5: DAFTAR ULANG
A6: NO | B6: PROGRAM STUDI | C6: JML MHSW SMT 1 | D6: JML MHSW | E6: BESARAN BIAYA DAFTAR ULANG | G6: BESARAN POTENSI PEMASUKAN SMT 1 | H6: BESARAN POTENSI PEMASUKAN SMT 3,5,7
E7: SMT 1 | F7: SMT 3, 5, 7
A8: 1 | B8: PAI A | C8: =C19 -> 41 | D8: =D19 -> 109 | E8: =300000 -> 300000 | F8: =300000 -> 300000 | G8: =C8*E8 -> 12300000 | H8: =D8*F8 -> 32700000
A9: 2 | B9: PAI B | C9: =C20 -> 53 | D9: =D20 -> 191 | E9: =300000 -> 300000 | F9: =300000 -> 300000 | G9: =C9*E9 -> 15900000 | H9: =D9*F9 -> 57300000
A10: 3 | B10: HES | C10: =C21 -> 21 | D10: =D21 -> 68 | E10: =300000 -> 300000 | F10: =300000 -> 300000 | G10: =C10*E10 -> 6300000 | H10: =D10*F10 -> 20400000
A11: 4 | G11: =C11*E11 -> 0 | H11: =D11*F11 -> 0
A12: JUMLAH POTENSI PEMASUKAN DARI MHSW REGULER | G12: =SUM(G8:G11) -> 34500000 | H12: =SUM(H8:H11) -> 110400000
A13: JUMLAH TOTAL POTENSI PEMASUKAN DARI MHSW REGULER | H13: =SUM(G12:H12) -> 144900000
A14: JUMLAH TOTAL POTENSI PEMASUKAN DARI MHSW REGULER PER 6 BULAN | H14: =H13/6 -> 24150000
A16: SPP
A17: NO | B17: PROGRAM STUDI | C17: JML MHSW SMT 1 | D17: JML MHSW | E17: BESARAN BIAYA SPP | G17: BESARAN POTENSI PEMASUKAN SMT 1 | H17: BESARAN POTENSI PEMASUKAN SMT 3,5,7 | J17: JUMLAH TOTAL POTENSI PEMASUKAN
E18: SMT 1 | F18: SMT 3, 5, 7 | J18: =SUM(G24+G13+G35+G46) -> 0
A19: 1 | B19: PAI A | C19: =[2]MHSW!G7 -> 41 | D19: =SUM([2]MHSW!C7:F7) -> 109 | E19: =300000*6 -> 1800000 | F19: =300000*6 -> 1800000 | G19: =C19*E19 -> 73800000 | H19: =D19*F19 -> 196200000
A20: 2 | B20: PAI B | C20: =[2]MHSW!G8 -> 53 | D20: =SUM([2]MHSW!C8:F8) -> 191 | E20: =350000*6 -> 2100000 | F20: =350000*6 -> 2100000 | G20: =C20*E20 -> 111300000 | H20: =D20*F20 -> 401100000
A21: 3 | B21: HES | C21: =[2]MHSW!G9 -> 21 | D21: =SUM([2]MHSW!C9:F9) -> 68 | E21: =300000*6 -> 1800000 | F21: =300000*6 -> 1800000 | G21: =C21*E21 -> 37800000 | H21: =D21*F21 -> 122400000
A22: 4 | G22: =C22*E22 -> 0 | H22: =D22*F22 -> 0
A23: JUMLAH POTENSI PEMASUKAN DARI SELURUH MHSW | G23: =SUM(G19:G22) -> 222900000 | H23: =SUM(H19:H22) -> 719700000
A24: JUMLAH TOTAL POTENSI PEMASUKAN DARI MHSW REGULER | H24: =SUM(G23+H23) -> 942600000 | L24: =SUM(D19:D22) -> 368
A25: JUMLAH TOTAL POTENSI PEMASUKAN DARI MHSW REGULER PER 6 BULAN | H25: =H24/6 -> 157100000
A27: UTS
A28: NO | B28: PROGRAM STUDI | C28: JML MHSW SMT 1 | D28: JML MHSW | E28: UTS | G28: BESARAN POTENSI PEMASUKAN SMT 1 | H28: BESARAN POTENSI PEMASUKAN SMT 3,5,7
E29: SMT 1 | F29: SMT 3, 5, 7
A30: 1 | B30: PAI A | C30: =C8 -> 41 | D30: =D8 -> 109 | E30: =300000 -> 300000 | F30: =300000 -> 300000 | G30: =C30*E30 -> 12300000 | H30: =D30*F30 -> 32700000
A31: 2 | B31: PAI B | C31: =C9 -> 53 | D31: =D9 -> 191 | E31: =300000 -> 300000 | F31: =300000 -> 300000 | G31: =C31*E31 -> 15900000 | H31: =D31*F31 -> 57300000
A32: 3 | B32: HES | C32: =C10 -> 21 | D32: =D10 -> 68 | E32: =300000 -> 300000 | F32: =300000 -> 300000 | G32: =C32*E32 -> 6300000 | H32: =D32*F32 -> 20400000
A33: 4 | G33: =C33*E33 -> 0 | H33: =D33*F33 -> 0
A34: JUMLAH POTENSI PEMASUKAN DARI MHSW REGULER | G34: =SUM(G30:G33) -> 34500000 | H34: =SUM(H30:H33) -> 110400000
A35: JUMLAH TOTAL POTENSI PEMASUKAN DARI MHSW REGULER | H35: =SUM(G34:H34) -> 144900000
A36: JUMLAH TOTAL POTENSI PEMASUKAN DARI MHSW REGULER PER 6 BULAN | H36: =H35/6 -> 24150000
A38: UAS
A39: NO | B39: PROGRAM STUDI | C39: JML MHSW SMT 1 | D39: JML MHSW | E39: UAS | G39: BESARAN POTENSI PEMASUKAN SMT 1 | H39: BESARAN POTENSI PEMASUKAN SMT 3,5,7
E40: SMT 1 | F40: SMT 3, 5, 7
A41: 1 | B41: PAI A | C41: =C30 -> 41 | D41: =D30-D63 -> 60 | E41: =300000 -> 300000 | F41: =300000 -> 300000 | G41: =C41*E41 -> 12300000 | H41: =D41*F41 -> 18000000
A42: 2 | B42: PAI B | C42: =C31 -> 53 | D42: =D31-D64 -> 136 | E42: =300000 -> 300000 | F42: =300000 -> 300000 | G42: =C42*E42 -> 15900000 | H42: =D42*F42 -> 40800000
A43: 3 | B43: HES | C43: =C32 -> 21 | D43: =D32-D65 -> 51 | E43: =300000 -> 300000 | F43: =300000 -> 300000 | G43: =C43*E43 -> 6300000 | H43: =D43*F43 -> 15300000
A44: 4 | G44: =C44*E44 -> 0 | H44: =D44*F44 -> 0
...

Sheet Estimasi Penerimaan Genap
A1: RENCANA PENERIMAAN SEMESTER GENAP
A2: PROGRAM STUDI : PAI DAN HES
A3: SEKOLAH TINGGI AGAMA ISLAM HAJI AGUS SALIM
A4: TAHUN AKADEMIK : 2023/2024
C6: JENIS PENERIMAAN | D6: RENCANA (BULANAN) ESTIMASI PENERIMAAN | K6: TOTAL RENCANA PENERIMAAN
D7: FEBRUARI | E7: MARET | F7: APRIL | G7: MEI | H7: JUNI | I7: JULI
C9: PENERIMAAN FAKULTAS
C11: Pendapatan Daftar Ulang | D11: ='POTENSI GENAP'!$H14 -> 24150000 | E11: ='POTENSI GENAP'!$H14 -> 24150000 | F11: ='POTENSI GENAP'!$H14 -> 24150000 | G11: ='POTENSI GENAP'!$H14 -> 24150000 | H11: ='POTENSI GENAP'!$H14 -> 24150000 | I11: ='POTENSI GENAP'!$H14 -> 24150000 | K11: =SUM(D11:J11) -> 144900000
C12: Pendapatan SPP Mahasiswa | D12: ='POTENSI GENAP'!$H25 -> 157100000 | E12: ='POTENSI GENAP'!$H25 -> 157100000 | F12: ='POTENSI GENAP'!$H25 -> 157100000 | G12: ='POTENSI GENAP'!$H25 -> 157100000 | H12: ='POTENSI GENAP'!$H25 -> 157100000 | I12: ='POTENSI GENAP'!$H25 -> 157100000 | K12: =SUM(D12:J12) -> 942600000
C13: Pendapatan Dana Bangunan | D13: ='POTENSI GASAL'!$H25 -> 16541667 | E13: ='POTENSI GASAL'!$H25 -> 16541667 | F13: ='POTENSI GASAL'!$H25 -> 16541667 | G13: ='POTENSI GASAL'!$H25 -> 16541667 | H13: ='POTENSI GASAL'!$H25 -> 16541667 | I13: ='POTENSI GASAL'!$H25 -> 16541667 | K13: =SUM(D13:J13) -> 99250000
C14: Pendapatan Dana Praktikum | K14: =SUM(D14:J14) -> 0
C15: Pendapatan Dana UTS | D15: ='POTENSI GENAP'!$H36 -> 24150000 | E15: ='POTENSI GENAP'!$H36 -> 24150000 | F15: ='POTENSI GENAP'!$H36 -> 24150000 | G15: ='POTENSI GENAP'!$H36 -> 24150000 | H15: ='POTENSI GENAP'!$H36 -> 24150000 | I15: ='POTENSI GENAP'!$H36 -> 24150000 | K15: =SUM(D15:J15) -> 144900000
C16: Pendapatan Dana UAS | D16: ='POTENSI GENAP'!$H47 -> 18100000 | E16: ='POTENSI GENAP'!$H47 -> 18100000 | F16: ='POTENSI GENAP'!$H47 -> 18100000 | G16: ='POTENSI GENAP'!$H47 -> 18100000 | H16: ='POTENSI GENAP'!$H47 -> 18100000 | I16: ='POTENSI GENAP'!$H47 -> 18100000 | K16: =SUM(D16:J16) -> 108600000
C17: Pendapatan PPLK/S | D17: ='POTENSI GENAP'!$H58 -> 14250000 | E17: ='POTENSI GENAP'!$H58 -> 14250000 | F17: ='POTENSI GENAP'!$H58 -> 14250000 | G17: ='POTENSI GENAP'!$H58 -> 14250000 | H17: ='POTENSI GENAP'!$H58 -> 14250000 | I17: ='POTENSI GENAP'!$H58 -> 14250000 | K17: =SUM(D17:J17) -> 85500000
C18: Ujian Komprehensif | K18: =SUM(D18:J18) -> 0
C19: Pendapatan KKN | D19: ='POTENSI GENAP'!$H69 -> 32266667 | E19: ='POTENSI GENAP'!$H69 -> 32266667 | F19: ='POTENSI GENAP'!$H69 -> 32266667 | G19: ='POTENSI GENAP'!$H69 -> 32266667 | H19: ='POTENSI GENAP'!$H69 -> 32266667 | I19: ='POTENSI GENAP'!$H69 -> 32266667 | K19: =SUM(D19:J19) -> 193600000
C20: Pendapatan SEMPRO | D20: ='POTENSI GENAP'!$H80 -> 15125000 | E20: ='POTENSI GENAP'!$H80 -> 15125000 | F20: ='POTENSI GENAP'!$H80 -> 15125000 | G20: ='POTENSI GENAP'!$H80 -> 15125000 | H20: ='POTENSI GENAP'!$H80 -> 15125000 | I20: ='POTENSI GENAP'!$H80 -> 15125000 | K20: =SUM(D20:J20) -> 90750000
C21: Pendapatan Bimbingan Tugas Akhir | D21: ='POTENSI GENAP'!$H91 -> 12100000 | E21: ='POTENSI GENAP'!$H91 -> 12100000 | F21: ='POTENSI GENAP'!$H91 -> 12100000 | G21: ='POTENSI GENAP'!$H91 -> 12100000 | H21: ='POTENSI GENAP'!$H91 -> 12100000 | I21: ='POTENSI GENAP'!$H91 -> 12100000 | K21: =SUM(D21:J21) -> 72600000
C22: Pendapatan Ujian Munaqosyah | D22: ='POTENSI GENAP'!$H102 -> 26216667 | E22: ='POTENSI GENAP'!$H102 -> 26216667 | F22: ='POTENSI GENAP'!$H102 -> 26216667 | G22: ='POTENSI GENAP'!$H102 -> 26216667 | H22: ='POTENSI GENAP'!$H102 -> 26216667 | I22: ='POTENSI GENAP'!$H102 -> 26216667 | K22: =SUM(D22:J22) -> 157300000
C23: Pendapatan Penjilidan | D23: ='POTENSI GENAP'!$H113 -> 5041666.7 | E23: ='POTENSI GENAP'!$H113 -> 5041666.7 | F23: ='POTENSI GENAP'!$H113 -> 5041666.7 | G23: ='POTENSI GENAP'!$H113 -> 5041666.7 | H23: ='POTENSI GENAP'!$H113 -> 5041666.7 | I23: ='POTENSI GENAP'!$H113 -> 5041666.7 | K23: =SUM(D23:J23) -> 30250000
C24: Pendapatan Ijazah & Legalisir | D24: ='POTENSI GENAP'!$H124 -> 20166667 | E24: ='POTENSI GENAP'!$H124 -> 20166667 | F24: ='POTENSI GENAP'!$H124 -> 20166667 | G24: ='POTENSI GENAP'!$H124 -> 20166667 | H24: ='POTENSI GENAP'!$H124 -> 20166667 | I24: ='POTENSI GENAP'!$H124 -> 20166667 | K24: =SUM(D24:J24) -> 1.21e+08
C25: Pendapatan Wisuda | D25: ='POTENSI GENAP'!$H135 -> 80666667 | E25: ='POTENSI GENAP'!$H135 -> 80666667 | F25: ='POTENSI GENAP'!$H135 -> 80666667 | G25: ='POTENSI GENAP'!$H135 -> 80666667 | H25: ='POTENSI GENAP'!$H135 -> 80666667 | I25: ='POTENSI GENAP'!$H135 -> 80666667 | K25: =SUM(D25:J25) -> 4.84e+08
C26: ----------------------------- | K26: =SUM(D26:J26) -> 0
C28: TOTAL | D28: =SUM(D11:D27) -> 4.45875e+08 | E28: =SUM(E11:E27) -> 4.45875e+08 | F28: =SUM(F11:F27) -> 4.45875e+08 | G28: =SUM(G11:G27) -> 4.45875e+08 | H28: =SUM(H11:H27) -> 4.45875e+08 | I28: =SUM(I11:I27) -> 4.45875e+08 | J28: =SUM(J11:J27) -> 0 | K28: =SUM(K11:K27) -> 2675250000

Sheet Rencana Alokasi Anggaran
A1: RENCANA KEGIATAN DAN ANGGARAN TAHUNAN
A2: PROGRAM STUDI : PAI DAN HES
A3: SEKOLAH TINGGI AGAMA ISLAM HAJI AGUS SALIM
A4: TAHUN AKADEMIK : 2023/2024
C6: NAMA MATA ANGGARAN | D6: R/P | E6: RENCANA (BULANAN) ALOKASI ANGGARAN | L6: TOTAL RENCANA ANGGARAN
E7: AGUSTUS | F7: SEPTEMBER | G7: OKTOBER | H7: NOVEMBER | I7: DESEMBER | J7: JANUARI
A8: A | C8: PENINGKATAN LAYANAN TRIDHARMA PERGURUAN TINGGI
C9: PENDIDIKAN DAN PENGAJARAN
C10: Pelaksanaan Kegiatan Akademik
C11: Pelaksanaan PMB 2023-2024 | D11: R | E11: =307000000 -> 307000000 | L11: =SUM(E11:K11) -> 307000000
C12: Ujian Tengah Semester Gasal | D12: R | E12: =95000000 -> 95000000 | L12: =SUM(E12:K12) -> 95000000
C13: Ujian Akhir Semester Gasal | D13: R | E13: =95000000 -> 95000000
C14: Ujian Tengah Semester Gasal | D14: R | E14: =85000000 -> 85000000
C15: Ujian Akhir Semester Genap | D15: R | E15: =85000000 -> 85000000
C16: Pelaksanaan PPKL / PPLS | D16: R | E16: =85000000 -> 85000000 | L16: =SUM(E16:K16) -> 85000000
C17: Pelaksanaan KKN | D17: R | E17: =[4]POTENSI!$H$65-95000000 -> 98600000 | L17: =SUM(E17:K17) -> 98600000
C18: Pelaksanaan Ujian Komprehensif | D18: R | E18: =[1]POTENSI!H76-25000000 -> 53650000 | L18: =SUM(E18:K18) -> 53650000
C19: Pelaksanaan Seminar Proposal | D19: R | E19: =[4]POTENSI!$H$75-25000000 -> 65750000 | L19: =SUM(E19:K19) -> 65750000
C20: Pelaksanaan Bimbingan Skripsi | D20: R | E20: =[4]POTENSI!$H$85-20000000 -> 52600000 | L20: =SUM(E20:K20) -> 52600000
C21: Pelaksanaan Sidang Munaqosyah | D21: R | E21: =[4]POTENSI!$H$95-40000000 -> 117300000
C22: Ijazah & Legalisir | D22: R | E22: =[4]POTENSI!$H$115-25000000 -> 96000000 | L22: =SUM(E22:K22) -> 96000000
C23: Penjilidan | D23: R | E23: =[4]POTENSI!$H$105-15800000 -> 14450000 | L23: =SUM(E23:K23) -> 14450000
C24: Wisuda | D24: R | E24: =[4]POTENSI!$H$125-15000000 -> 469000000 | L24: =SUM(E24:K24) -> 469000000
C25: Kerohiman Pengelola dan Dosen | D25: R | E25: =SUM(35*500000)+SUM(35*500000) -> 35000000 | L25: =SUM(E25:K25) -> 35000000
C26: Kegiatan Mahasiswa | D26: R | E26: =35000000 -> 35000000 | L26: =SUM(E26:K26) -> 35000000
C27: PERSIAPAN AKREDITASI | D27: R | E27: =750000000/4 -> 187500000
C28: MONEV (PAI DAN HES) | D28: R | E28: =2*25000000 -> 50000000 | L28: =SUM(E28:K28) -> 50000000
C29: Ujian Skripsi/ TA | D29: R | L29: =SUM(E29:K29) -> 0
C30: Peningkatan Kualitas Akademik Dosen | D30: P | L30: =SUM(E30:K30) -> 0
C31: Diskusi Ilmiah Dosen | D31: P | L31: =SUM(E31:K31) -> 0
C32: Seminar/Lokakarya Regional Akademik Dosen | D32: P | L32: =SUM(E32:K32) -> 0
C33: Seminar/Lokakarya Nasional Akademik Dosen | D33: P | L33: =SUM(E33:K33) -> 0
C34: Workshop/Pelatihan Dosen | D34: P | L34: =SUM(E34:K34) -> 0
C35: Pengiriman Diskusi Ilmiah Dosen | D35: P | L35: =SUM(E35:K35) -> 0
C36: Pengiriman Seminar/Lokakarya Regional Akademik Dosen | D36: P | L36: =SUM(E36:K36) -> 0
C37: Pengiriman Workshop/Pelatihan Dosen | D37: P | E37: =3*20000000 -> 60000000 | L37: =SUM(E37:K37) -> 60000000
C38: Penelitian Kompetisi Dosen | D38: P | L38: =SUM(E38:K38) -> 0
C39: Penyusunan/ Penyempurnaan Kurikulum | D39: P | L39: =SUM(E39:K39) -> 0
C40: Penyusunan Sarana Pengajaran (GBPP, SAP, SILABI, TRANSPARAN SHEET MENGAJAR, dll) | D40: P | L40: =SUM(E40:K40) -> 0
C41: Penyusunan Bahan Ajar (DIKTAT, MODUL, dll) | D41: P | L41: =SUM(E41:K41) -> 0
...

Sheet Rekapitulasi T.A. 2023-2024
A1: LAPORAN RENCANA AKTIVITAS
A2: PROGRAM STUDI : PAI DAN HES
A3: STAI HAJI AGUS SALIM
A4: PERIODE TAHUN AKADEMIK 2023/2024
A6: No | B6: KETERANGAN | C6: BULANAN | I6: TOTAL RENCANA PENERIMAAN
C7: AGUSTUS | D7: SEPTEMBER | E7: OKTOBER | F7: NOVEMBER | G7: DESEMBER | H7: JANUARI
A11: 1 | B11: PENERIMAAN | C11: ='Estimasi Penerimaan Gasal'!D29 -> 483600000 | D11: ='Estimasi Penerimaan Gasal'!E29 -> 274500000 | E11: ='Estimasi Penerimaan Gasal'!F29 -> 274500000 | F11: ='Estimasi Penerimaan Gasal'!G29 -> 274500000 | G11: ='Estimasi Penerimaan Gasal'!H29 -> 274500000 | H11: ='Estimasi Penerimaan Gasal'!I29 -> 274500000 | I11: =SUM(C11:H11) -> 1856100000
A13: No | B13: KETERANGAN | C13: BULANAN
C14: PEBRUARI | D14: MARET | E14: APRIL | F14: MEI | G14: JUNI | H14: JULI
A15: 2 | B15: PENERIMAAN | C15: ='Estimasi Penerimaan Genap'!$D28 -> 4.45875e+08 | D15: ='Estimasi Penerimaan Genap'!$D28 -> 4.45875e+08 | E15: ='Estimasi Penerimaan Genap'!$D28 -> 4.45875e+08 | F15: ='Estimasi Penerimaan Genap'!$D28 -> 4.45875e+08 | G15: ='Estimasi Penerimaan Genap'!$D28 -> 4.45875e+08 | H15: ='Estimasi Penerimaan Genap'!$D28 -> 4.45875e+08 | I15: =SUM(C15:H15) -> 2.67525e+09
B18: TOTAL | I18: =I11+I15 -> 4531350000
A22: No | B22: KETERANGAN | C22: BULANAN | I22: TOTAL RENCANA PENGELUARAN
A27: 1 | B27: PENERIMAAN T.A. 2023-2024 | C27: ='[1]Estimasi Penerimaan'!D44 -> 0 | D27: ='[1]Estimasi Penerimaan'!E44 -> 0 | E27: ='[1]Estimasi Penerimaan'!F44 -> 0 | F27: ='[1]Estimasi Penerimaan'!G44 -> 0 | G27: ='[1]Estimasi Penerimaan'!H44 -> 0 | H27: ='[1]Estimasi Penerimaan'!I44 -> 0 | I27: =I18 -> 4531350000
A29: 2 | B29: PENGELUARAN T.A. 2023-2024 | C29: ='[1]Rencana Alokasi Anggaran'!E126 -> 0 | D29: ='[1]Rencana Alokasi Anggaran'!F126 -> 0 | E29: ='[1]Rencana Alokasi Anggaran'!G126 -> 0 | F29: ='[1]Rencana Alokasi Anggaran'!H126 -> 0 | G29: ='[1]Rencana Alokasi Anggaran'!I126 -> 0 | H29: ='[1]Rencana Alokasi Anggaran'!J126 -> 0 | I29: ='Rencana Alokasi Anggaran'!E111 -> 4512850000
B32: TOTAL | C32: =C27-C29 -> 0 | D32: =D27-D29 -> 0 | E32: =E27-E29 -> 0 | F32: =F27-F29 -> 0 | G32: =G27-G29 -> 0 | H32: =H27-H29 -> 0 | I32: =I27-I29 -> 18500000

Sheet Rekapitulasi Gsl&Genap
A1: LAPORAN RENCANA AKTIVITAS
A2: PROGRAM STUDI : PAI DAN HES
A3: STAI HAJI AGUS SALIM
A4: PERIODE TAHUN AKADEMIK 2023/2024
A6: No | B6: KETERANGAN | C6: BULANAN | J6: TOTAL RENCANA PENERIMAAN dan PENGELUARAN
C7: AGUSTUS | D7: SEPTEMBER | E7: OKTOBER | F7: NOVEMBER | G7: DESEMBER | H7: JANUARI
A11: 1 | B11: PENERIMAAN | C11: ='[1]Estimasi Penerimaan'!D29 -> 522600000 | D11: ='[1]Estimasi Penerimaan'!E29 -> 322000000 | E11: ='[1]Estimasi Penerimaan'!F29 -> 322000000 | F11: ='[1]Estimasi Penerimaan'!G29 -> 322000000 | G11: ='[1]Estimasi Penerimaan'!H29 -> 322000000 | H11: ='[1]Estimasi Penerimaan'!I29 -> 322000000 | I11: ='[1]Estimasi Penerimaan'!J29 -> 0 | J11: =SUM(C11:I11)+[4]Rekapitulasi!$J$11 -> 5167600000
A13: 2 | B13: PENGELUARAN | C13: ='[1]Rencana Alokasi Anggaran'!E111 -> 4576850000 | D13: ='[1]Rencana Alokasi Anggaran'!F111 -> 4 | E13: ='[1]Rencana Alokasi Anggaran'!G111 -> 5 | F13: ='[1]Rencana Alokasi Anggaran'!H111 -> 6 | G13: ='[1]Rencana Alokasi Anggaran'!I111 -> 7 | H13: ='[1]Rencana Alokasi Anggaran'!J111 -> 8 | J13: =SUM(C13:I13)+[4]Rekapitulasi!$J$13 -> 4582550089
B17: TOTAL | C17: =C11-C13 -> -4054250000 | D17: =D11-D13 -> 321999996 | E17: =E11-E13 -> 321999995 | F17: =F11-F13 -> 321999994 | G17: =G11-G13 -> 321999993 | H17: =H11-H13 -> 321999992 | I17: =I11-I13 -> 0 | J17: =J11-J13 -> 585049911
