Workbook

Sheet MHSW
I1: RENCANA KEGIATAN DAN ANGGARAN TAHUNAN
I2: SEKOLAH TINGGI AGAMA ISLAM HAJI AGUS SALIM
I3: TAHUN AKADEMIK : 2023/2024
A5: PEMUTAKHIRAN JUMLAH MAHASISWA AKTIF
A6: STAI HAJI AGUS SALIM
A7: SEMESTER GASAL 23/24
A9: NO | B9: PROGRAM STUDI | C9: TAHUN AKADEMIK | H9: JML
C10: 2019 | D10: 2020 | E10: 2021 | F10: 2022 | G10: 2023
A11: 1 | B11: PAI A | C11: 35 | D11: =53 -> 53 | E11: =32 -> 32 | F11: =28 -> 28 | G11: =44+1 -> 45 | H11: =SUM(C11:G11) -> 193
A12: 2 | B12: PAI B | C12: 77 | D12: =58 -> 58 | E12: =69 -> 69 | F12: =36+43+3 -> 82 | G12: =52+1 -> 53 | H12: =SUM(C12:G12) -> 339
A13: 3 | B13: HES | C13: 31 | D13: =18 -> 18 | E13: =22 -> 22 | F13: =30 -> 30 | G13: =22+3 -> 25 | H13: =SUM(C13:G13) -> 126
A14: 4 | H14: =SUM(C14:G14) -> 0
A15: 5 | H15: =SUM(C15:G15) -> 0
A16: 6 | H16: =SUM(C16:G16) -> 0
C17: =SUM(C11:C16) -> 143 | D17: =SUM(D11:D16) -> 129 | E17: =SUM(E11:E16) -> 123 | F17: =SUM(F11:F16) -> 140 | G17: =SUM(G11:G16) -> 123 | H17: =SUM(H11:H16) -> 658
A20: PEMUTAKHIRAN JUMLAH MAHASISWA AKTIF
A21: STAI HAJI AGUS SALIM
A22: SEMESTER GENAP 2023/2024
A24: NO | B24: PROGRAM STUDI | C24: TAHUN AKADEMIK | H24: JML
C25: 2019 | D25: 2020 | E25: 2021 | F25: 2022 | G25: 2023
A26: 1 | B26: PAI A | C26: 35 | D26: =53 -> 53 | E26: =32 -> 32 | F26: =28 -> 28 | G26: =44+1 -> 45 | H26: =SUM(C26:G26) -> 193
A27: 2 | B27: PAI B | C27: 77 | D27: =58 -> 58 | E27: =69 -> 69 | F27: =36+43+3 -> 82 | G27: =52+1 -> 53 | H27: =SUM(C27:G27) -> 339
A28: 3 | B28: HES | C28: 31 | D28: =18 -> 18 | E28: =22 -> 22 | F28: =30 -> 30 | G28: =22+3 -> 25 | H28: =SUM(C28:G28) -> 126
A29: 4 | H29: =SUM(C29:G29) -> 0
A30: 5 | H30: =SUM(C30:G30) -> 0
A31: 6 | H31: =SUM(C31:G31) -> 0
C32: =SUM(C26:C31) -> 143 | D32: =SUM(D26:D31) -> 129 | E32: =SUM(E26:E31) -> 123 | F32: =SUM(F26:F31) -> 140 | G32: =SUM(G26:G31) -> 123 | H32: =SUM(H26:H31) -> 658

Sheet POTENSI GASAL
A1: POTENSI PEMASUKAN
A2: STAI HAJI AGUS SALIM
A3: SEMESTER GASAL 2023/2024
A5: MABIMARU
A6: NO | B6: PROGRAM STUDI | C6: JML MHSW SMT 1 | D6: JML MHSW | E6: MABIMARU | G6: BESARAN POTENSI PEMASUKAN SMT 1 | H6: BESARAN POTENSI PEMASUKAN SMT 3,5,7
E7: SMT 1 | F7: SMT 3, 5, 7
A8: 1 | B8: PAI A | C8: =MHSW!G11 -> 45 | D8: =SUM(MHSW!D11:F11) -> 113 | E8: =1700000 -> 1700000 | G8: =C8*E8 -> 76500000 | H8: =D8*F8 -> 0
A9: 2 | B9: PAI B | C9: =MHSW!G12 -> 53 | D9: =SUM(MHSW!D12:F12) -> 209 | E9: =1700000 -> 1700000 | G9: =C9*E9 -> 90100000 | H9: =D9*F9 -> 0
A10: 3 | B10: HES | C10: =MHSW!G13 -> 25 | D10: =SUM(MHSW!D13:F13) -> 70 | E10: =1700000 -> 1700000 | G10: =C10*E10 -> 42500000 | H10: =D10*F10 -> 0
A11: 4 | G11: =C11*E11 -> 0 | H11: =D11*F11 -> 0
A12: JUMLAH POTENSI PEMASUKAN DARI SELURUH MHSW | G12: =SUM(G8:G11) -> 209100000 | H12: =SUM(H8:H11) -> 0
A13: JUMLAH TOTAL POTENSI PEMASUKAN DARI MHSW REGULER | H13: =SUM(G12+H12) -> 209100000
A16: UANG BANGUNAN
A17: NO | B17: PROGRAM STUDI | C17: JML MHSW SMT 1 | D17: JML MHSW | E17: UANG BANGUNAN | G17: BESARAN POTENSI PEMASUKAN SMT 1 | H17: BESARAN POTENSI PEMASUKAN SMT 3,5,7
E18: SMT 1 | F18: SMT 3, 5, 7 | J18: Yang belum melunasi Bangunan
A19: 1 | B19: PAI A | C19: =C8 -> 45 | D19: =0 -> 0 | E19: =1500000 -> 1500000 | G19: =C19*E19 -> 67500000 | H19: =D19*F19 -> 0 | J19: PAI A = 11 Mhs
A20: 2 | B20: PAI B | C20: =C9 -> 53 | D20: =0 -> 0 | E20: =2000000 -> 2000000 | G20: =C20*E20 -> 106000000 | H20: =D20*F20 -> 0 | J20: PAI B = 19 Mhs
A21: 3 | B21: HES | C21: =C10 -> 25 | D21: =0 -> 0 | E21: =1000000 -> 1000000 | G21: =C21*E21 -> 25000000 | H21: =D21*F21 -> 0 | J21: HES = 17 Mhs
A22: 4 | G22: =C22*E22 -> 0 | H22: =D22*F22 -> 0
A23: JUMLAH POTENSI PEMASUKAN DARI SELURUH MHSW | G23: =SUM(G19:G22) -> 198500000 | H23: =SUM(H19:H22) -> 0
A24: JUMLAH TOTAL POTENSI PEMASUKAN DARI MHSW REGULER | H24: =SUM(G23+H23) -> 198500000
A25: JUMLAH TOTAL POTENSI PEMASUKAN DARI MHSW REGULER PER 12 BULAN | H25: =H24/12 -> 16541667
A28: SPP
A29: NO | B29: PROGRAM STUDI | C29: JML MHSW SMT 1 | D29: JML MHSW | E29: BESARAN BIAYA SPP | G29: BESARAN POTENSI PEMASUKAN SMT 1 | H29: BESARAN POTENSI PEMASUKAN SMT 3,5,7 | J29: JUMLAH TOTAL POTENSI PEMASUKAN
E30: SMT 1 | F30: SMT 3, 5, 7 | J30: =SUM(G36+G47+G58+G69) -> 0
A31: 1 | B31: PAI A | C31: =C19 -> 45 | D31: =D8 -> 113 | E31: =300000*6 -> 1800000 | F31: =300000*6 -> 1800000 | G31: =C31*E31 -> 81000000 | H31: =D31*F31 -> 203400000
A32: 2 | B32: PAI B | C32: =C20 -> 53 | D32: =D9 -> 209 | E32: =350000*6 -> 2100000 | F32: =350000*6 -> 2100000 | G32: =C32*E32 -> 111300000 | H32: =D32*F32 -> 438900000
A33: 3 | B33: HES | C33: =C21 -> 25 | D33: =D10 -> 70 | E33: =300000*6 -> 1800000 | F33: =300000*6 -> 1800000 | G33: =C33*E33 -> 45000000 | H33: =D33*F33 -> 126000000
A34: 4 | G34: =C34*E34 -> 0 | H34: =D34*F34 -> 0
A35: JUMLAH POTENSI PEMASUKAN DARI SELURUH MHSW | G35: =SUM(G31:G34) -> 237300000 | H35: =SUM(H31:H34) -> 768300000
A36: JUMLAH TOTAL POTENSI PEMASUKAN DARI MHSW REGULER | H36: =SUM(G35+H35) -> 1005600000 | L36: =SUM(D31:D34) -> 392
A37: JUMLAH TOTAL POTENSI PEMASUKAN DARI MHSW REGULER PER 6 BULAN | H37: =H36/6 -> 167600000
A39: DAFTAR ULANG
A40: NO | B40: PROGRAM STUDI | C40: JML MHSW SMT 1 | D40: JML MHSW | E40: BESARAN BIAYA DAFTAR ULANG | G40: BESARAN POTENSI PEMASUKAN SMT 1 | H40: BESARAN POTENSI PEMASUKAN SMT 3,5,7
E41: SMT 1 | F41: SMT 3, 5, 7
A42: 1 | B42: PAI A | C42: =C31 -> 45 | D42: =D31 -> 113 | E42: =300000 -> 300000 | F42: =300000 -> 300000 | G42: =C42*E42 -> 13500000 | H42: =D42*F42 -> 33900000
A43: 2 | B43: PAI B | C43: =C32 -> 53 | D43: =D32 -> 209 | E43: =300000 -> 300000 | F43: =300000 -> 300000 | G43: =C43*E43 -> 15900000 | H43: =D43*F43 -> 62700000
A44: 3 | B44: HES | C44: =C33 -> 25 | D44: =D33 -> 70 | E44: =300000 -> 300000 | F44: =300000 -> 300000 | G44: =C44*E44 -> 7500000 | H44: =D44*F44 -> 21000000
A45: 4 | G45: =C45*E45 -> 0 | H45: =D45*F45 -> 0
A46: JUMLAH POTENSI PEMASUKAN DARI MHSW REGULER | G46: =SUM(G42:G45) -> 36900000 | H46: =SUM(H42:H45) -> 117600000 | K46: =SUM(C42:C45) -> 123 | L46: =SUM(D42:D45) -> 392
A47: JUMLAH TOTAL POTENSI PEMASUKAN DARI MHSW REGULER | H47: =SUM(G46:H46) -> 154500000
A48: JUMLAH TOTAL POTENSI PEMASUKAN DARI MHSW REGULER PER 6 BULAN | H48: =H47/6 -> 25750000
A50: UTS
A51: NO | B51: PROGRAM STUDI | C51: JML MHSW SMT 1 | D51: JML MHSW | E51: UTS | G51: BESARAN POTENSI PEMASUKAN SMT 1 | H51: BESARAN POTENSI PEMASUKAN SMT 3,5,7
E52: SMT 1 | F52: SMT 3, 5, 7
A53: 1 | B53: PAI A | C53: =C42 -> 45 | D53: =D42 -> 113 | E53: =300000 -> 300000 | F53: =300000 -> 300000 | G53: =C53*E53 -> 13500000 | H53: =D53*F53 -> 33900000
A54: 2 | B54: PAI B | C54: =C43 -> 53 | D54: =D43 -> 209 | E54: =300000 -> 300000 | F54: =300000 -> 300000 | G54: =C54*E54 -> 15900000 | H54: =D54*F54 -> 62700000
A55: 3 | B55: HES | C55: =C44 -> 25 | D55: =D44 -> 70 | E55: =300000 -> 300000 | F55: =300000 -> 300000 | G55: =C55*E55 -> 7500000 | H55: =D55*F55 -> 21000000
A56: 4 | G56: =C56*E56 -> 0 | H56: =D56*F56 -> 0
A57: JUMLAH POTENSI PEMASUKAN DARI MHSW REGULER | G57: =SUM(G53:G56) -> 36900000 | H57: =SUM(H53:H56) -> 117600000
A58: JUMLAH TOTAL POTENSI PEMASUKAN DARI MHSW REGULER | H58: =SUM(G57:H57) -> 154500000
A59: JUMLAH TOTAL POTENSI PEMASUKAN DARI MHSW REGULER PER 6 BULAN | H59: =H58/6 -> 25750000
A61: UAS
A62: NO | B62: PROGRAM STUDI | C62: JML MHSW SMT 1 | D62: JML MHSW | E62: UAS | G62: BESARAN POTENSI PEMASUKAN SMT 1 | H62: BESARAN POTENSI PEMASUKAN SMT 3,5,7
E63: SMT 1 | F63: SMT 3, 5, 7
A64: 1 | B64: PAI A | C64: =C53 -> 45 | D64: =D53 -> 113 | E64: =300000 -> 300000 | F64: =300000 -> 300000 | G64: =C64*E64 -> 13500000 | H64: =D64*F64 -> 33900000
A65: 2 | B65: PAI B | C65: =C54 -> 53 | D65: =D54 -> 209 | E65: =300000 -> 300000 | F65: =300000 -> 300000 | G65: =C65*E65 -> 15900000 | H65: =D65*F65 -> 62700000
A66: 3 | B66: HES | C66: =C55 -> 25 | D66: =D55 -> 70 | E66: =300000 -> 300000 | F66: =300000 -> 300000 | G66: =C66*E66 -> 7500000 | H66: =D66*F66 -> 21000000
A67: 4 | G67: =C67*E67 -> 0 | H67: =D67*F67 -> 0
A68: JUMLAH POTENSI PEMASUKAN DARI MHSW REGULER | G68: =SUM(G64:G67) -> 36900000 | H68: =SUM(H64:H67) -> 117600000
A69: JUMLAH TOTAL POTENSI PEMASUKAN DARI MHSW REGULER | H69: =SUM(G68+H68) -> 154500000
A70: JUMLAH TOTAL POTENSI PEMASUKAN DARI MHSW REGULER PER 6 BULAN | H70: =H69/6 -> 25750000
A73: UJIAN KOMPREHENSIF
A74: NO | B74: PROGRAM STUDI | C74: JML MHSW SMT 7 | D74: JML MHSW | E74: UJIAN KOMPREHENSIF | G74: BESARAN POTENSI PEMASUKAN SMT 1 | H74: BESARAN POTENSI PEMASUKAN SMT 3,5,7
E75: SMT 7 | F75: SMT 3, 5, 7
A76: 1 | B76: PAI A | C76: =[1]MHSW!D7 -> 49 | D76: =C76 -> 49 | E76: =650000 -> 650000 | G76: =C76*E76 -> 31850000 | H76: =D76*F76 -> 0
A77: 2 | B77: PAI B | C77: =[1]MHSW!D8 -> 55 | D77: =C77 -> 55 | E77: =650000 -> 650000 | G77: =C77*E77 -> 35750000 | H77: =D77*F77 -> 0
A78: 3 | B78: HES | C78: =[1]MHSW!D9 -> 17 | D78: =C78 -> 17 | E78: =650000 -> 650000 | G78: =C78*E78 -> 11050000 | H78: =D78*F78 -> 0
A79: 4 | G79: =C79*E79 -> 0 | H79: =D79*F79 -> 0
A80: JUMLAH POTENSI PEMASUKAN DARI MHSW REGULER | G80: =SUM(G76:G79) -> 78650000 | H80: =SUM(H76:H79) -> 0
A81: JUMLAH TOTAL POTENSI PEMASUKAN DARI MHSW REGULER | H81: =SUM(G80+H80) -> 78650000
A82: JUMLAH TOTAL POTENSI PEMASUKAN DARI MHSW REGULER PER 6 BULAN | H82: =H81/6 -> 13108333
C85: =SUM(C76:C78) -> 121

Sheet Estimasi Penerimaan Gasal
A1: RENCANA PENERIMAAN SEMESTER GASAL
A2: PROGRAM STUDI : PAI DAN HES
A3: SEKOLAH TINGGI AGAMA ISLAM HAJI AGUS SALIM
A4: TAHUN AKADEMIK : 2023/2024
C6: JENIS PENERIMAAN | D6: RENCANA (BULANAN) ESTIMASI PENERIMAAN | K6: TOTAL RENCANA PENERIMAAN
D7: AGUSTUS | E7: SEPTEMBER | F7: OKTOBER | G7: NOVEMBER | H7: DESEMBER | I7: JANUARI
C9: PENERIMAAN FAKULTAS
C11: Pendapatan Daftar Ulang | D11: ='POTENSI GASAL'!$H48 -> 25750000 | E11: ='POTENSI GASAL'!$H48 -> 25750000 | F11: ='POTENSI GASAL'!$H48 -> 25750000 | G11: ='POTENSI GASAL'!$H48 -> 25750000 | H11: ='POTENSI GASAL'!$H48 -> 25750000 | I11: ='POTENSI GASAL'!$H48 -> 25750000 | K11: =SUM(D11:J11) -> 154500000
C12: Pendapatan SPP Mahasiswa | D12: ='POTENSI GASAL'!$H37 -> 167600000 | E12: ='POTENSI GASAL'!$H37 -> 167600000 | F12: ='POTENSI GASAL'!$H37 -> 167600000 | G12: ='POTENSI GASAL'!$H37 -> 167600000 | H12: ='POTENSI GASAL'!$H37 -> 167600000 | I12: ='POTENSI GASAL'!$H37 -> 167600000 | K12: =SUM(D12:J12) -> 1005600000
C13: Pendapatan Dana Mabimaru | D13: ='POTENSI GASAL'!H13 -> 209100000 | K13: =SUM(D13:J13) -> 209100000
C14: Pendapatan Dana Bangunan | D14: ='POTENSI GASAL'!$H25 -> 16541667 | E14: ='POTENSI GASAL'!$H25 -> 16541667 | F14: ='POTENSI GASAL'!$H25 -> 16541667 | G14: ='POTENSI GASAL'!$H25 -> 16541667 | H14: ='POTENSI GASAL'!$H25 -> 16541667 | I14: ='POTENSI GASAL'!$H25 -> 16541667 | K14: =SUM(D14:J14) -> 99250000
C15: Pendapatan Dana Praktikum | K15: =SUM(D15:J15) -> 0
C16: Pendapatan Dana UTS | D16: ='POTENSI GASAL'!$H59 -> 25750000 | E16: ='POTENSI GASAL'!$H59 -> 25750000 | F16: ='POTENSI GASAL'!$H59 -> 25750000 | G16: ='POTENSI GASAL'!$H59 -> 25750000 | H16: ='POTENSI GASAL'!$H59 -> 25750000 | I16: ='POTENSI GASAL'!$H59 -> 25750000 | K16: =SUM(D16:J16) -> 154500000
C17: Pendapatan Dana UAS | D17: ='POTENSI GASAL'!$H70 -> 25750000 | E17: ='POTENSI GASAL'!$H70 -> 25750000 | F17: ='POTENSI GASAL'!$H70 -> 25750000 | G17: ='POTENSI GASAL'!$H70 -> 25750000 | H17: ='POTENSI GASAL'!$H70 -> 25750000 | I17: ='POTENSI GASAL'!$H70 -> 25750000 | K17: =SUM(D17:J17) -> 154500000
C18: Pendapatan PPLK/S
C19: Ujian Komprehensif | D19: ='POTENSI GASAL'!$H82 -> 13108333 | E19: ='POTENSI GASAL'!$H82 -> 13108333 | F19: ='POTENSI GASAL'!$H82 -> 13108333 | G19: ='POTENSI GASAL'!$H82 -> 13108333 | H19: ='POTENSI GASAL'!$H82 -> 13108333 | I19: ='POTENSI GASAL'!$H82 -> 13108333 | K19: =SUM(D19:J19) -> 78650000
K20: =SUM(D20:J20) -> 0
K21: =SUM(D21:J21) -> 0
K22: =SUM(D22:J22) -> 0
K23: =SUM(D23:J23) -> 0
K24: =SUM(D24:J24) -> 0
K25: =SUM(D25:J25) -> 0
K26: =SUM(D26:J26) -> 0
K27: =SUM(D27:J27) -> 0
C29: TOTAL | D29: =SUM(D11:D28) -> 483600000 | E29: =SUM(E11:E28) -> 274500000 | F29: =SUM(F11:F28) -> 274500000 | G29: =SUM(G11:G28) -> 274500000 | H29: =SUM(H11:H28) -> 274500000 | I29: =SUM(I11:I28) -> 274500000 | J29: =SUM(J11:J28) -> 0 | K29: =SUM(K11:K28) -> 1856100000

Sheet POTENSI GENAP
A1: POTENSI PEMASUKAN
A2: STAI HAJI AGUS SALIM
A3: SEMESTER GENAP 2023/2024
A5: DAFTAR ULANG
A6: NO | B6: PROGRAM STUDI | C6: JML MHSW SMT 1 | D6: JML MHSW | E6: BESARAN BIAYA DAFTAR ULANG | G6: BESARAN POTENSI PEMASUKAN SMT 1 | H6: BESARAN POTENSI PEMASUKAN SMT 3,5,7
E7: SMT 1 | F7: SMT 3, 5, 7
A8: 1 | B8: PAI A | C8: =C19 -> 41 | D8: =D19 -> 109 | E8: =300000 -> 300000 | F8: =300000 -> 300000 | G8: =C8*E8 -> 12300000 | H8: =D8*F8 -> 32700000
A9: 2 | B9: PAI B | C9: =C20 -> 53 | D9: =D20 -> 191 | E9: =300000 -> 300000 | F9: =300000 -> 300000 | G9: =C9*E9 -> 15900000 | H9: =D9*F9 -> 57300000
A10: 3 | B10: HES | C10: =C21 -> 21 | D10: =D21 -> 68 | E10: =300000 -> 300000 | F10: =300000 -> 300000 | G10: =C10*E10 -> 6300000 | H10: =D10*F10 -> 20400000
A11: 4 | G11: =C11*E11 -> 0 | H11: =D11*F11 -> 0
A12: JUMLAH POTENSI PEMASUKAN DARI MHSW REGULER | G12: =SUM(G8:G11) -> 34500000 | H12: =SUM(H8:H11) -> 110400000
A13: JUMLAH TOTAL POTENSI PEMASUKAN DARI MHSW REGULER | H13: =SUM(G12:H12) -> 144900000
A14: JUMLAH TOTAL POTENSI PEMASUKAN DARI MHSW REGULER PER 6 BULAN | H14: =H13/6 -> 24150000
A16: SPP
A17: NO | B17: PROGRAM STUDI | C17: JML MHSW SMT 1 | D17: JML MHSW | E17: BESARAN BIAYA SPP | G17: BESARAN POTENSI PEMASUKAN SMT 1 | H17: BESARAN POTENSI PEMASUKAN SMT 3,5,7 | J17: JUMLAH TOTAL POTENSI PEMASUKAN
E18: SMT 1 | F18: SMT 3, 5, 7 | J18: =SUM(G24+G13+G35+G46) -> 0
A19: 1 | B19: PAI A | C19: =[2]MHSW!G7 -> 41 | D19: =SUM([2]MHSW!C7:F7) -> 109 | E19: =300000*6 -> 1800000 | F19: =300000*6 -> 1800000 | G19: =C19*E19 -> 73800000 | H19: =D19*F19 -> 196200000
A20: 2 | B20: PAI B | C20: =[2]MHSW!G8 -> 53 | D20: =SUM([2]MHSW!C8:F8) -> 191 | E20: =350000*6 -> 2100000 | F20: =350000*6 -> 2100000 | G20: =C20*E20 -> 111300000 | H20: =D20*F20 -> 401100000
A21: 3 | B21: HES | C21: =[2]MHSW!G9 -> 21 | D21: =SUM([2]MHSW!C9:F9) -> 68 | E21: =300000*6 -> 1800000 | F21: =300000*6 -> 1800000 | G21: =C21*E21 -> 37800000 | H21: =D21*F21 -> 122400000
A22: 4 | G22: =C22*E22 -> 0 | H22: =D22*F22 -> 0
A23: JUMLAH POTENSI PEMASUKAN DARI SELURUH MHSW | G23: =SUM(G19:G22) -> 222900000 | H23: =SUM(H19:H22) -> 719700000
A24: JUMLAH TOTAL POTENSI PEMASUKAN DARI MHSW REGULER | H24: =SUM(G23+H23) -> 942600000 | L24: =SUM(D19:D22) -> 368
A25: JUMLAH TOTAL POTENSI PEMASUKAN DARI MHSW REGULER PER 6 BULAN | H25: =H24/6 -> 157100000
A27: UTS
A28: NO | B28: PROGRAM STUDI | C28: JML MHSW SMT 1 | D28: JML MHSW | E28: UTS | G28: BESARAN POTENSI PEMASUKAN SMT 1 | H28: BESARAN POTENSI PEMASUKAN SMT 3,5,7
E29: SMT 1 | F29: SMT 3, 5, 7
A30: 1 | B30: PAI A | C30: =C8 -> 41 | D30: =D8 -> 109 | E30: =300000 -> 300000 | F30: =300000 -> 300000 | G30: =C30*E30 -> 12300000 | H30: =D30*F30 -> 32700000
A31: 2 | B31: PAI B | C31: =C9 -> 53 | D31: =D9 -> 191 | E31: =300000 -> 300000 | F31: =300000 -> 300000 | G31: =C31*E31 -> 15900000 | H31: =D31*F31 -> 57300000
A32: 3 | B32: HES | C32: =C10 -> 21 | D32: =D10 -> 68 | E32: =300000 -> 300000 | F32: =300000 -> 300000 | G32: =C32*E32 -> 6300000 | H32: =D32*F32 -> 20400000
A33: 4 | G33: =C33*E33 -> 0 | H33: =D33*F33 -> 0
A34: JUMLAH POTENSI PEMASUKAN DARI MHSW REGULER | G34: =SUM(G30:G33) -> 34500000 | H34: =SUM(H30:H33) -> 110400000
A35: JUMLAH TOTAL POTENSI PEMASUKAN DARI MHSW REGULER | H35: =SUM(G34:H34) -> 144900000
A36: JUMLAH TOTAL POTENSI PEMASUKAN DARI MHSW REGULER PER 6 BULAN | H36: =H35/6 -> 24150000
A38: UAS
A39: NO | B39: PROGRAM STUDI | C39: JML MHSW SMT 1 | D39: JML MHSW | E39: UAS | G39: BESARAN POTENSI PEMASUKAN SMT 1 | H39: BESARAN POTENSI PEMASUKAN SMT 3,5,7
E40: SMT 1 | F40: SMT 3, 5, 7
A41: 1 | B41: PAI A | C41: =C30 -> 41 | D41: =D30-D63 -> 60 | E41: =300000 -> 300000 | F41: =300000 -> 300000 | G41: =C41*E41 -> 12300000 | H41: =D41*F41 -> 18000000
A42: 2 | B42: PAI B | C42: =C31 -> 53 | D42: =D31-D64 -> 136 | E42: =300000 -> 300000 | F42: =300000 -> 300000 | G42: =C42*E42 -> 15900000 | H42: =D42*F42 -> 40800000
A43: 3 | B43: HES | C43: =C32 -> 21 | D43: =D32-D65 -> 51 | E43: =300000 -> 300000 | F43: =300000 -> 300000 | G43: =C43*E43 -> 6300000 | H43: =D43*F43 -> 15300000
A44: 4 | G44: =C44*E44 -> 0 | H44: =D44*F44 -> 0
A45: JUMLAH POTENSI PEMASUKAN DARI MHSW REGULER | G45: =SUM(G41:G44) -> 34500000 | H45: =SUM(H41:H44) -> 74100000
A46: JUMLAH TOTAL POTENSI PEMASUKAN DARI MHSW REGULER | H46: =SUM(G45+H45) -> 108600000
A47: JUMLAH TOTAL POTENSI PEMASUKAN DARI MHSW REGULER PER 6 BULAN | H47: =H46/6 -> 18100000
A49: PPLK
A50: NO | B50: PROGRAM STUDI | C50: JML MHSW SMT 1 | D50: JML MHSW | E50: PPLK | G50: BESARAN POTENSI PEMASUKAN SMT 1 | H50: BESARAN POTENSI PEMASUKAN KKN
F51: SMT 6
A52: 1 | B52: PAI A | D52: =[3]MHSW!E7 -> 34 | F52: =750000 -> 750000 | G52: =C52*E52 -> 0 | H52: =D52*F52 -> 25500000
A53: 2 | B53: PAI B | D53: =[3]MHSW!E8 -> 60 | F53: =750000 -> 750000 | G53: =C53*E53 -> 0 | H53: =D53*F53 -> 45000000
A54: 3 | B54: HES | D54: =[3]MHSW!E9 -> 20 | F54: =750000 -> 750000 | G54: =C54*E54 -> 0 | H54: =D54*F54 -> 15000000
A55: 4 | G55: =C55*E55 -> 0 | H55: =D55*F55 -> 0
A56: JUMLAH POTENSI PEMASUKAN DARI MHSW REGULER | G56: =SUM(G52:G55) -> 0 | H56: =SUM(H52:H55) -> 85500000
A57: JUMLAH TOTAL POTENSI PEMASUKAN DARI MHSW REGULER | H57: =SUM(G56+H56) -> 85500000
A58: JUMLAH TOTAL POTENSI PEMASUKAN DARI MHSW REGULER PER 6 BULAN | H58: =H57/6 -> 14250000
A60: KKN
A61: NO | B61: PROGRAM STUDI | C61: JML MHSW SMT 1 | D61: JML MHSW | E61: KKN | G61: BESARAN POTENSI PEMASUKAN SMT 1 | H61: BESARAN POTENSI PEMASUKAN KKN
F62: SMT 8
A63: 1 | B63: PAI A | D63: =[3]MHSW!D7 -> 49 | F63: 1600000 | G63: =C63*E63 -> 0 | H63: =D63*F63 -> 78400000
A64: 2 | B64: PAI B | D64: =[3]MHSW!D8 -> 55 | F64: 1600000 | G64: =C64*E64 -> 0 | H64: =D64*F64 -> 88000000
A65: 3 | B65: HES | D65: =[3]MHSW!D9 -> 17 | F65: 1600000 | G65: =C65*E65 -> 0 | H65: =D65*F65 -> 27200000
A66: 4 | G66: =C66*E66 -> 0 | H66: =D66*F66 -> 0
A67: JUMLAH POTENSI PEMASUKAN DARI MHSW REGULER | G67: =SUM(G63:G66) -> 0 | H67: =SUM(H63:H66) -> 193600000
A68: JUMLAH TOTAL POTENSI PEMASUKAN DARI MHSW REGULER | H68: =SUM(G67+H67) -> 193600000
A69: JUMLAH TOTAL POTENSI PEMASUKAN DARI MHSW REGULER PER 6 BULAN | H69: =H68/6 -> 32266667
A71: SEMINAR PROPOSAL
A72: NO | B72: PROGRAM STUDI | C72: JML MHSW SMT 1 | D72: JML MHSW | E72: SEMINAR PROPOSAL | G72: BESARAN POTENSI PEMASUKAN SMT 1 | H72: BESARAN POTENSI PEMASUKAN SEMPRO
F73: SMT 8
A74: 1 | B74: PAI A | D74: =D63 -> 49 | F74: 750000 | G74: =C74*E74 -> 0 | H74: =D74*F74 -> 36750000
A75: 2 | B75: PAI B | D75: =D64 -> 55 | F75: 750000 | G75: =C75*E75 -> 0 | H75: =D75*F75 -> 41250000
A76: 3 | B76: HES | D76: =D65 -> 17 | F76: 750000 | G76: =C76*E76 -> 0 | H76: =D76*F76 -> 12750000
A77: 4 | G77: =C77*E77 -> 0 | H77: =D77*F77 -> 0
A78: JUMLAH POTENSI PEMASUKAN DARI MHSW REGULER | G78: =SUM(G74:G77) -> 0 | H78: =SUM(H74:H77) -> 90750000
A79: JUMLAH TOTAL POTENSI PEMASUKAN DARI MHSW REGULER | H79: =SUM(G78+H78) -> 90750000
A80: JUMLAH TOTAL POTENSI PEMASUKAN DARI MHSW REGULER PER 6 BULAN | H80: =H79/6 -> 15125000
A82: BIMBINGAN
A83: NO | B83: PROGRAM STUDI | C83: JML MHSW SMT 1 | D83: JML MHSW | E83: BIMBINGAN | G83: BESARAN POTENSI PEMASUKAN SMT 1 | H83: BESARAN POTENSI PEMASUKAN BIMBINGAN
F84: SMT 8
A85: 1 | B85: PAI A | D85: =D63 -> 49 | F85: 600000 | G85: =C85*E85 -> 0 | H85: =D85*F85 -> 29400000
A86: 2 | B86: PAI B | D86: =D64 -> 55 | F86: 600000 | G86: =C86*E86 -> 0 | H86: =D86*F86 -> 33000000
A87: 3 | B87: HES | D87: =D65 -> 17 | F87: 600000 | G87: =C87*E87 -> 0 | H87: =D87*F87 -> 10200000
A88: 4 | G88: =C88*E88 -> 0 | H88: =D88*F88 -> 0
A89: JUMLAH POTENSI PEMASUKAN DARI MHSW REGULER | G89: =SUM(G85:G88) -> 0 | H89: =SUM(H85:H88) -> 72600000
A90: JUMLAH TOTAL POTENSI PEMASUKAN DARI MHSW REGULER | H90: =SUM(G89+H89) -> 72600000
A91: JUMLAH TOTAL POTENSI PEMASUKAN DARI MHSW REGULER PER 6 BULAN | H91: =H90/6 -> 12100000
A93: MUNAQOSYAH
A94: NO | B94: PROGRAM STUDI | C94: JML MHSW SMT 1 | D94: JML MHSW | E94: MUNAQOSYAH | G94: BESARAN POTENSI PEMASUKAN SMT 1 | H94: BESARAN POTENSI PEMASUKAN MUNAQ
F95: SMT 8
A96: 1 | B96: PAI A | D96: =D74 -> 49 | F96: =1300000 -> 1300000 | G96: =C96*E96 -> 0 | H96: =D96*F96 -> 63700000
A97: 2 | B97: PAI B | D97: =D75 -> 55 | F97: =1300000 -> 1300000 | G97: =C97*E97 -> 0 | H97: =D97*F97 -> 71500000
A98: 3 | B98: HES | D98: =D76 -> 17 | F98: =1300000 -> 1300000 | G98: =C98*E98 -> 0 | H98: =D98*F98 -> 22100000
A99: 4 | G99: =C99*E99 -> 0 | H99: =D99*F99 -> 0
A100: JUMLAH POTENSI PEMASUKAN DARI MHSW REGULER | G100: =SUM(G96:G99) -> 0 | H100: =SUM(H96:H99) -> 157300000
A101: JUMLAH TOTAL POTENSI PEMASUKAN DARI MHSW REGULER | H101: =SUM(G100+H100) -> 157300000
A102: JUMLAH TOTAL POTENSI PEMASUKAN DARI MHSW REGULER PER 6 BULAN | H102: =H101/6 -> 26216667
A104: PENJILIDAN
A105: NO | B105: PROGRAM STUDI | C105: JML MHSW SMT 1 | D105: JML MHSW | E105: PENJILIDAN | G105: BESARAN POTENSI PEMASUKAN SMT 1 | H105: BESARAN POTENSI PEMASUKAN SEMPRO
F106: SMT 8
A107: 1 | B107: PAI A | D107: =D96 -> 49 | F107: 250000 | G107: =C107*E107 -> 0 | H107: =D107*F107 -> 12250000
A108: 2 | B108: PAI B | D108: =D97 -> 55 | F108: 250000 | G108: =C108*E108 -> 0 | H108: =D108*F108 -> 13750000
A109: 3 | B109: HES | D109: =D98 -> 17 | F109: 250000 | G109: =C109*E109 -> 0 | H109: =D109*F109 -> 4250000
A110: 4 | G110: =C110*E110 -> 0 | H110: =D110*F110 -> 0
...

Sheet Estimasi Penerimaan Genap
A1: RENCANA PENERIMAAN SEMESTER GENAP
A2: PROGRAM STUDI : PAI DAN HES
A3: SEKOLAH TINGGI AGAMA ISLAM HAJI AGUS SALIM
A4: TAHUN AKADEMIK : 2023/2024
C6: JENIS PENERIMAAN | D6: RENCANA (BULANAN) ESTIMASI PENERIMAAN | K6: TOTAL RENCANA PENERIMAAN
D7: FEBRUARI | E7: MARET | F7: APRIL | G7: MEI | H7: JUNI | I7: JULI
C9: PENERIMAAN FAKULTAS
C11: Pendapatan Daftar Ulang | D11: ='POTENSI GENAP'!$H14 -> 24150000 | E11: ='POTENSI GENAP'!$H14 -> 24150000 | F11: ='POTENSI GENAP'!$H14 -> 24150000 | G11: ='POTENSI GENAP'!$H14 -> 24150000 | H11: ='POTENSI GENAP'!$H14 -> 24150000 | I11: ='POTENSI GENAP'!$H14 -> 24150000 | K11: =SUM(D11:J11) -> 144900000
C12: Pendapatan SPP Mahasiswa | D12: ='POTENSI GENAP'!$H25 -> 157100000 | E12: ='POTENSI GENAP'!$H25 -> 157100000 | F12: ='POTENSI GENAP'!$H25 -> 157100000 | G12: ='POTENSI GENAP'!$H25 -> 157100000 | H12: ='POTENSI GENAP'!$H25 -> 157100000 | I12: ='POTENSI GENAP'!$H25 -> 157100000 | K12: =SUM(D12:J12) -> 942600000
C13: Pendapatan Dana Bangunan | D13: ='POTENSI GASAL'!$H25 -> 16541667 | E13: ='POTENSI GASAL'!$H25 -> 16541667 | F13: ='POTENSI GASAL'!$H25 -> 16541667 | G13: ='POTENSI GASAL'!$H25 -> 16541667 | H13: ='POTENSI GASAL'!$H25 -> 16541667 | I13: ='POTENSI GASAL'!$H25 -> 16541667 | K13: =SUM(D13:J13) -> 99250000
C14: Pendapatan Dana Praktikum | K14: =SUM(D14:J14) -> 0
C15: Pendapatan Dana UTS | D15: ='POTENSI GENAP'!$H36 -> 24150000 | E15: ='POTENSI GENAP'!$H36 -> 24150000 | F15: ='POTENSI GENAP'!$H36 -> 24150000 | G15: ='POTENSI GENAP'!$H36 -> 24150000 | H15: ='POTENSI GENAP'!$H36 -> 24150000 | I15: ='POTENSI GENAP'!$H36 -> 24150000 | K15: =SUM(D15:J15) -> 144900000
C16: Pendapatan Dana UAS | D16: ='POTENSI GENAP'!$H47 -> 18100000 | E16: ='POTENSI GENAP'!$H47 -> 18100000 | F16: ='POTENSI GENAP'!$H47 -> 18100000 | G16: ='POTENSI GENAP'!$H47 -> 18100000 | H16: ='POTENSI GENAP'!$H47 -> 18100000 | I16: ='POTENSI GENAP'!$H47 -> 18100000 | K16: =SUM(D16:J16) -> 108600000
C17: Pendapatan PPLK/S | D17: ='POTENSI GENAP'!$H58 -> 14250000 | E17: ='POTENSI GENAP'!$H58 -> 14250000 | F17: ='POTENSI GENAP'!$H58 -> 14250000 | G17: ='POTENSI GENAP'!$H58 -> 14250000 | H17: ='POTENSI GENAP'!$H58 -> 14250000 | I17: ='POTENSI GENAP'!$H58 -> 14250000 | K17: =SUM(D17:J17) -> 85500000
C18: Ujian Komprehensif | K18: =SUM(D18:J18) -> 0
C19: Pendapatan KKN | D19: ='POTENSI GENAP'!$H69 -> 32266667 | E19: ='POTENSI GENAP'!$H69 -> 32266667 | F19: ='POTENSI GENAP'!$H69 -> 32266667 | G19: ='POTENSI GENAP'!$H69 -> 32266667 | H19: ='POTENSI GENAP'!$H69 -> 32266667 | I19: ='POTENSI GENAP'!$H69 -> 32266667 | K19: =SUM(D19:J19) -> 193600000
C20: Pendapatan SEMPRO | D20: ='POTENSI GENAP'!$H80 -> 15125000 | E20: ='POTENSI GENAP'!$H80 -> 15125000 | F20: ='POTENSI GENAP'!$H80 -> 15125000 | G20: ='POTENSI GENAP'!$H80 -> 15125000 | H20: ='POTENSI GENAP'!$H80 -> 15125000 | I20: ='POTENSI GENAP'!$H80 -> 15125000 | K20: =SUM(D20:J20) -> 90750000
C21: Pendapatan Bimbingan Tugas Akhir | D21: ='POTENSI GENAP'!$H91 -> 12100000 | E21: ='POTENSI GENAP'!$H91 -> 12100000 | F21: ='POTENSI GENAP'!$H91 -> 12100000 | G21: ='POTENSI GENAP'!$H91 -> 12100000 | H21: ='POTENSI GENAP'!$H91 -> 12100000 | I21: ='POTENSI GENAP'!$H91 -> 12100000 | K21: =SUM(D21:J21) -> 72600000
C22: Pendapatan Ujian Munaqosyah | D22: ='POTENSI GENAP'!$H102 -> 26216667 | E22: ='POTENSI GENAP'!$H102 -> 26216667 | F22: ='POTENSI GENAP'!$H102 -> 26216667 | G22: ='POTENSI GENAP'!$H102 -> 26216667 | H22: ='POTENSI GENAP'!$H102 -> 26216667 | I22: ='POTENSI GENAP'!$H102 -> 26216667 | K22: =SUM(D22:J22) -> 157300000
C23: Pendapatan Penjilidan | D23: ='POTENSI GENAP'!$H113 -> 5041666.7 | E23: ='POTENSI GENAP'!$H113 -> 5041666.7 | F23: ='POTENSI GENAP'!$H113 -> 5041666.7 | G23: ='POTENSI GENAP'!$H113 -> 5041666.7 | H23: ='POTENSI GENAP'!$H113 -> 5041666.7 | I23: ='POTENSI GENAP'!$H113 -> 5041666.7 | K23: =SUM(D23:J23) -> 30250000
C24: Pendapatan Ijazah & Legalisir | D24: ='POTENSI GENAP'!$H124 -> 20166667 | E24: ='POTENSI GENAP'!$H124 -> 20166667 | F24: ='POTENSI GENAP'!$H124 -> 20166667 | G24: ='POTENSI GENAP'!$H124 -> 20166667 | H24: ='POTENSI GENAP'!$H124 -> 20166667 | I24: ='POTENSI GENAP'!$H124 -> 20166667 | K24: =SUM(D24:J24) -> 1.21e+08
C25: Pendapatan Wisuda | D25: ='POTENSI GENAP'!$H135 -> 80666667 | E25: ='POTENSI GENAP'!$H135 -> 80666667 | F25: ='POTENSI GENAP'!$H135 -> 80666667 | G25: ='POTENSI GENAP'!$H135 -> 80666667 | H25: ='POTENSI GENAP'!$H135 -> 80666667 | I25: ='POTENSI GENAP'!$H135 -> 80666667 | K25: =SUM(D25:J25) -> 4.84e+08
C26: ----------------------------- | K26: =SUM(D26:J26) -> 0
C28: TOTAL | D28: =SUM(D11:D27) -> 4.45875e+08 | E28: =SUM(E11:E27) -> 4.45875e+08 | F28: =SUM(F11:F27) -> 4.45875e+08 | G28: =SUM(G11:G27) -> 4.45875e+08 | H28: =SUM(H11:H27) -> 4.45875e+08 | I28: =SUM(I11:I27) -> 4.45875e+08 | J28: =SUM(J11:J27) -> 0 | K28: =SUM(K11:K27) -> 2675250000

Sheet Rencana Alokasi Anggaran
A1: RENCANA KEGIATAN DAN ANGGARAN TAHUNAN
A2: PROGRAM STUDI : PAI DAN HES
A3: SEKOLAH TINGGI AGAMA ISLAM HAJI AGUS SALIM
A4: TAHUN AKADEMIK : 2023/2024
C6: NAMA MATA ANGGARAN | D6: R/P | E6: RENCANA (BULANAN) ALOKASI ANGGARAN | L6: TOTAL RENCANA ANGGARAN
E7: AGUSTUS | F7: SEPTEMBER | G7: OKTOBER | H7: NOVEMBER | I7: DESEMBER | J7: JANUARI
A8: A | C8: PENINGKATAN LAYANAN TRIDHARMA PERGURUAN TINGGI
C9: PENDIDIKAN DAN PENGAJARAN
C10: Pelaksanaan Kegiatan Akademik
C11: Pelaksanaan PMB 2023-2024 | D11: R | E11: =307000000 -> 307000000 | L11: =SUM(E11:K11) -> 307000000
C12: Ujian Tengah Semester Gasal | D12: R | E12: =95000000 -> 95000000 | L12: =SUM(E12:K12) -> 95000000
C13: Ujian Akhir Semester Gasal | D13: R | E13: =95000000 -> 95000000
C14: Ujian Tengah Semester Gasal | D14: R | E14: =85000000 -> 85000000
C15: Ujian Akhir Semester Genap | D15: R | E15: =85000000 -> 85000000
C16: Pelaksanaan PPKL / PPLS | D16: R | E16: =85000000 -> 85000000 | L16: =SUM(E16:K16) -> 85000000
C17: Pelaksanaan KKN | D17: R | E17: =[4]POTENSI!$H$65-95000000 -> 98600000 | L17: =SUM(E17:K17) -> 98600000
C18: Pelaksanaan Ujian Komprehensif | D18: R | E18: =[1]POTENSI!H76-25000000 -> 53650000 | L18: =SUM(E18:K18) -> 53650000
C19: Pelaksanaan Seminar Proposal | D19: R | E19: =[4]POTENSI!$H$75-25000000 -> 65750000 | L19: =SUM(E19:K19) -> 65750000
C20: Pelaksanaan Bimbingan Skripsi | D20: R | E20: =[4]POTENSI!$H$85-20000000 -> 52600000 | L20: =SUM(E20:K20) -> 52600000
C21: Pelaksanaan Sidang Munaqosyah | D21: R | E21: =[4]POTENSI!$H$95-40000000 -> 117300000
C22: Ijazah & Legalisir | D22: R | E22: =[4]POTENSI!$H$115-25000000 -> 96000000 | L22: =SUM(E22:K22) -> 96000000
C23: Penjilidan | D23: R | E23: =[4]POTENSI!$H$105-15800000 -> 14450000 | L23: =SUM(E23:K23) -> 14450000
C24: Wisuda | D24: R | E24: =[4]POTENSI!$H$125-15000000 -> 469000000 | L24: =SUM(E24:K24) -> 469000000
C25: Kerohiman Pengelola dan Dosen | D25: R | E25: =SUM(35*500000)+SUM(35*500000) -> 35000000 | L25: =SUM(E25:K25) -> 35000000
C26: Kegiatan Mahasiswa | D26: R | E26: =35000000 -> 35000000 | L26: =SUM(E26:K26) -> 35000000
C27: PERSIAPAN AKREDITASI | D27: R | E27: =750000000/4 -> 187500000
C28: MONEV (PAI DAN HES) | D28: R | E28: =2*25000000 -> 50000000 | L28: =SUM(E28:K28) -> 50000000
C29: Ujian Skripsi/ TA | D29: R | L29: =SUM(E29:K29) -> 0
C30: Peningkatan Kualitas Akademik Dosen | D30: P | L30: =SUM(E30:K30) -> 0
C31: Diskusi Ilmiah Dosen | D31: P | L31: =SUM(E31:K31) -> 0
C32: Seminar/Lokakarya Regional Akademik Dosen | D32: P | L32: =SUM(E32:K32) -> 0
C33: Seminar/Lokakarya Nasional Akademik Dosen | D33: P | L33: =SUM(E33:K33) -> 0
C34: Workshop/Pelatihan Dosen | D34: P | L34: =SUM(E34:K34) -> 0
C35: Pengiriman Diskusi Ilmiah Dosen | D35: P | L35: =SUM(E35:K35) -> 0
C36: Pengiriman Seminar/Lokakarya Regional Akademik Dosen | D36: P | L36: =SUM(E36:K36) -> 0
C37: Pengiriman Workshop/Pelatihan Dosen | D37: P | E37: =3*20000000 -> 60000000 | L37: =SUM(E37:K37) -> 60000000
C38: Penelitian Kompetisi Dosen | D38: P | L38: =SUM(E38:K38) -> 0
C39: Penyusunan/ Penyempurnaan Kurikulum | D39: P | L39: =SUM(E39:K39) -> 0
C40: Penyusunan Sarana Pengajaran (GBPP, SAP, SILABI, TRANSPARAN SHEET MENGAJAR, dll) | D40: P | L40: =SUM(E40:K40) -> 0
C41: Penyusunan Bahan Ajar (DIKTAT, MODUL, dll) | D41: P | L41: =SUM(E41:K41) -> 0
C42: ………………………………… | L42: =SUM(E42:K42) -> 0
C43: Sub Total | E43: =SUM(E11:E42) -> 2086850000 | F43: =SUM(F11:F42) -> 0 | G43: =SUM(G11:G42) -> 0 | H43: =SUM(H11:H42) -> 0 | I43: =SUM(I11:I42) -> 0 | J43: =SUM(J11:J42) -> 0 | K43: =SUM(K11:K42) -> 0 | L43: =SUM(L11:L42) -> 1517050000
C44: Pembayaran Gaji dan Tunjangan Dosen dan Pegawai
C45: Pembayaran Gaji PENGELOLA DAN DOSEN | D45: R | E45: =1600000000 -> 1600000000 | L45: =SUM(E45:K45) -> 1600000000
C46: Pembayaran THR PENGELOLA DAN DOSEN | D46: R | E46: =150000000 -> 150000000 | L46: =SUM(E46:K46) -> 150000000
C47: Pembayaran Gaji Karyawan Tetap | D47: R | L47: =SUM(E47:K47) -> 0
C48: Pembayaran Gaji Tenaga Administratif Reguler | D48: R | L48: =SUM(E48:K48) -> 0
C49: Pembayaran Gaji Tenaga Kontrak | D49: R | L49: =SUM(E49:K49) -> 0
C50: Pembayaran Gaji Tenaga Harian | D50: R | L50: =SUM(E50:K50) -> 0
C51: Pembayaran Tunjangan Fungsional | D51: R | L51: =SUM(E51:K51) -> 0
C52: Pembayaran Tunjangan Struktural | D52: R | L52: =SUM(E52:K52) -> 0
C53: Pembayaran Transport Struktural | D53: R | L53: =SUM(E53:K53) -> 0
C54: Pembayaran Kelebihan Beban Mengajar | D54: R | L54: =SUM(E54:K54) -> 0
C55: ………………………………… | D55: R | L55: =SUM(E55:K55) -> 0
C56: Sub Total | E56: =SUM(E45:E55) -> 1750000000 | F56: =SUM(F45:F55) -> 0 | G56: =SUM(G45:G55) -> 0 | H56: =SUM(H45:H55) -> 0 | I56: =SUM(I45:I55) -> 0 | J56: =SUM(J45:J55) -> 0 | K56: =SUM(K45:K55) -> 0 | L56: =SUM(L45:L55) -> 1750000000
C57: Pemeliharaan Fasilitas Akademik
C58: Pemeliharaan all gedung | D58: R | E58: =100000000 -> 100000000 | L58: =SUM(E58:K58) -> 100000000
C59: ATK | D59: R | E59: =35000000 -> 35000000 | L59: =SUM(E59:K59) -> 35000000
C60: BHP | D60: R | E60: =35000000 -> 35000000
C61: INTERNET | D61: R | E61: =SUM(3000000*12) -> 36000000
C62: TOKEN LISTRIK | D62: R | E62: =SUM(7000000*12) -> 84000000
C63: MOBIL | D63: R | E63: =SUM(4000000*4) -> 16000000
C65: …………………………
C66: Sub Total | E66: =SUM(E58:E63) -> 306000000 | F66: =SUM(F58:F60) -> 0 | G66: =SUM(G58:G60) -> 0 | H66: =SUM(H58:H60) -> 0 | I66: =SUM(I58:I60) -> 0 | J66: =SUM(J58:J60) -> 0 | K66: =SUM(K58:K60) -> 0 | L66: =SUM(L58:L60) -> 135000000
C67: Peningkatan Kualitas Akademik Mahasiswa
C68: Diskusi Ilmiah Mahasiswa | D68: P | L68: =SUM(E68:K68) -> 0
C69: Seminar/Lokakarya Regional Akademik Mahasiswa | D69: P | L69: =SUM(E69:K69) -> 0
C70: Seminar/Lokakarya Nasional Akademik Mahasiswa | D70: P | L70: =SUM(E70:K70) -> 0
C71: Pengiriman Diskusi Ilmiah Mahasiswa | D71: P | L71: =SUM(E71:K71) -> 0
C72: Pengiriman Seminar/Lokakarya Regional Akademik Mahasiswa | D72: P | L72: =SUM(E72:K72) -> 0
C73: Pengiriman Seminar/Lokakarya Nasional Akademik Mahasiswa | D73: P | L73: =SUM(E73:K73) -> 0
C74: Pembentukan Kelompok Studi | D74: P | L74: =SUM(E74:K74) -> 0
C75: Kuliah Dosen Tamu | D75: P | L75: =SUM(E75:K75) -> 0
C76: Kuliah Umum | D76: P | L76: =SUM(E76:K76) -> 0
C77: Workshop/Pelatihan Mahasiswa | D77: P | L77: =SUM(E77:K77) -> 0
C78: Penelitian Reguler Mahasiswa | D78: P | L78: =SUM(E78:K78) -> 0
C79: Penelitian Kompetisi Mahasiswa | D79: P | L79: =SUM(E79:K79) -> 0
... C81: ………………. | D81: P | L81: =SUM(E81:K81) -> 0
C82: Sub Total | E82: =SUM(E68:E81) -> 0 | F82: =SUM(F68:F81) -> 0 | G82: =SUM(G68:G81) -> 0 | H82: =SUM(H68:H81) -> 0 | I82: =SUM(I68:I81) -> 0 | J82: =SUM(J68:J81) -> 0 | K82: =SUM(K68:K81) -> 0 | L82: =SUM(L68:L81) -> 0
C83: Sosialisasi Produk Ilmiah Dosen
C84: Akreditasi Jurnal/Majalah | D84: P | L84: =SUM(E84:K84) -> 0
C85: Penerbitan Jurnal/Majalah | D85: P | E85: =20*6000000 -> 120000000 | L85: =SUM(E85:K85) -> 120000000
C86: Pemuatan karya dosen / Cetak buku | D86: P | E86: =SUM(20*2000000*2) -> 80000000 | L86: =SUM(E86:K86) -> 80000000
C87: ……………….. | D87: P | L87: =SUM(E87:K87) -> 0
C88: Sub Total | E88: =SUM(E84:E87) -> 200000000 | F88: =SUM(F84:F87) -> 0 | G88: =SUM(G84:G87) -> 0 | H88: =SUM(H84:H87) -> 0 | I88: =SUM(I84:I87) -> 0 | J88: =SUM(J84:J87) -> 0 | K88: =SUM(K84:K87) -> 0 | L88: =SUM(L84:L87) -> 200000000
C89: Konsolidasi Organisasi
C90: Rapat Fakultas (Pengelola, dosen) | D90: R | E90: =15000000*8 -> 120000000 | L90: =SUM(E90:K90) -> 120000000
C91: Rapat Pr0gram Studi | D91: R | L91: =SUM(E91:K91) -> 0
C92: ………………..
C93: Sub Total | E93: =SUM(E90:E92) -> 120000000 | F93: =SUM(F90:F92) -> 0 | G93: =SUM(G90:G92) -> 0 | H93: =SUM(H90:H92) -> 0 | I93: =SUM(I90:I92) -> 0 | J93: =SUM(J90:J92) -> 0 | K93: =SUM(K90:K92) -> 0 | L93: =SUM(L90:L92) -> 120000000
C94: Perjalanan Dinas
C95: Perjalanan Dinas Dalam Daerah (lokal & regional) | D95: R | E95: =50000000 -> 50000000 | L95: =SUM(E95:K95) -> 50000000
C96: ………………..
C97: Sub Total | E97: =SUM(E95:E96) -> 50000000 | F97: =SUM(F95:F96) -> 0 | G97: =SUM(G95:G96) -> 0 | H97: =SUM(H95:H96) -> 0 | I97: =SUM(I95:I96) -> 0 | J97: =SUM(J95:J96) -> 0 | K97: =SUM(K95:K96) -> 0 | L97: =SUM(E97:K97) -> 50000000
C99: Total Pendidikan dan Pengajaran | E99: =E97+E93+E88+E82+E66+E56+E43 -> 4512850000 | F99: =F97+F93+F88+F82+F66+F56+F43 -> 0 | G99: =G97+G93+G88+G82+G66+G56+G43 -> 0 | H99: =H97+H93+H88+H82+H66+H56+H43 -> 0 | I99: =I97+I93+I88+I82+I66+I56+I43 -> 0 | J99: =J97+J93+J88+J82+J66+J56+J43 -> 0 | K99: =K97+K93+K88+K82+K66+K56+K43 -> 0 | L99: =SUM(E99:K99) -> 4512850000
C100: PELAKSANAAN KEGIATAN PENELITIAN
C101: Penelitian Reguler Dosen | D101: R | F101: 4 | G101: 5 | H101: 6 | I101: 7 | J101: 8 | K101: 9 | L101: =SUM(E101:K101) -> 39
C102: Penelitian Non Reguler Dosen | D102: P | L102: =SUM(E102:K102) -> 0
C104: Total Pelaksanaan Kegaitan Penelitian | E104: =SUM(E101:E103) -> 0 | F104: =SUM(F101:F103) -> 4 | G104: =SUM(G101:G103) -> 5 | H104: =SUM(H101:H103) -> 6 | I104: =SUM(I101:I103) -> 7 | J104: =SUM(J101:J103) -> 8 | K104: =SUM(K101:K103) -> 9 | L104: =SUM(L101:L103) -> 39
C105: PELAKSANAAN KEGIATAN PENGABDIAN PADA MASYARAKAT
...

Sheet Rekapitulasi T.A. 2023-2024
A1: LAPORAN RENCANA AKTIVITAS
A2: PROGRAM STUDI : PAI DAN HES
A3: STAI HAJI AGUS SALIM
A4: PERIODE TAHUN AKADEMIK 2023/2024
A6: No | B6: KETERANGAN | C6: BULANAN | I6: TOTAL RENCANA PENERIMAAN
C7: AGUSTUS | D7: SEPTEMBER | E7: OKTOBER | F7: NOVEMBER | G7: DESEMBER | H7: JANUARI
A11: 1 | B11: PENERIMAAN | C11: ='Estimasi Penerimaan Gasal'!D29 -> 483600000 | D11: ='Estimasi Penerimaan Gasal'!E29 -> 274500000 | E11: ='Estimasi Penerimaan Gasal'!F29 -> 274500000 | F11: ='Estimasi Penerimaan Gasal'!G29 -> 274500000 | G11: ='Estimasi Penerimaan Gasal'!H29 -> 274500000 | H11: ='Estimasi Penerimaan Gasal'!I29 -> 274500000 | I11: =SUM(C11:H11) -> 1856100000
A13: No | B13: KETERANGAN | C13: BULANAN
C14: PEBRUARI | D14: MARET | E14: APRIL | F14: MEI | G14: JUNI | H14: JULI
A15: 2 | B15: PENERIMAAN | C15: ='Estimasi Penerimaan Genap'!$D28 -> 4.45875e+08 | D15: ='Estimasi Penerimaan Genap'!$D28 -> 4.45875e+08 | E15: ='Estimasi Penerimaan Genap'!$D28 -> 4.45875e+08 | F15: ='Estimasi Penerimaan Genap'!$D28 -> 4.45875e+08 | G15: ='Estimasi Penerimaan Genap'!$D28 -> 4.45875e+08 | H15: ='Estimasi Penerimaan Genap'!$D28 -> 4.45875e+08 | I15: =SUM(C15:H15) -> 2.67525e+09
B18: TOTAL | I18: =I11+I15 -> 4531350000
A22: No | B22: KETERANGAN | C22: BULANAN | I22: TOTAL RENCANA PENGELUARAN
A27: 1 | B27: PENERIMAAN T.A. 2023-2024 | C27: ='[1]Estimasi Penerimaan'!D44 -> 0 | D27: ='[1]Estimasi Penerimaan'!E44 -> 0 | E27: ='[1]Estimasi Penerimaan'!F44 -> 0 | F27: ='[1]Estimasi Penerimaan'!G44 -> 0 | G27: ='[1]Estimasi Penerimaan'!H44 -> 0 | H27: ='[1]Estimasi Penerimaan'!I44 -> 0 | I27: =I18 -> 4531350000
A29: 2 | B29: PENGELUARAN T.A. 2023-2024 | C29: ='[1]Rencana Alokasi Anggaran'!E126 -> 0 | D29: ='[1]Rencana Alokasi Anggaran'!F126 -> 0 | E29: ='[1]Rencana Alokasi Anggaran'!G126 -> 0 | F29: ='[1]Rencana Alokasi Anggaran'!H126 -> 0 | G29: ='[1]Rencana Alokasi Anggaran'!I126 -> 0 | H29: ='[1]Rencana Alokasi Anggaran'!J126 -> 0 | I29: ='Rencana Alokasi Anggaran'!E111 -> 4512850000
B32: TOTAL | C32: =C27-C29 -> 0 | D32: =D27-D29 -> 0 | E32: =E27-E29 -> 0 | F32: =F27-F29 -> 0 | G32: =G27-G29 -> 0 | H32: =H27-H29 -> 0 | I32: =I27-I29 -> 18500000

Sheet Rekapitulasi Gsl&Genap
A1: LAPORAN RENCANA AKTIVITAS
A2: PROGRAM STUDI : PAI DAN HES
A3: STAI HAJI AGUS SALIM
A4: PERIODE TAHUN AKADEMIK 2023/2024
A6: No | B6: KETERANGAN | C6: BULANAN | J6: TOTAL RENCANA PENERIMAAN dan PENGELUARAN
C7: AGUSTUS | D7: SEPTEMBER | E7: OKTOBER | F7: NOVEMBER | G7: DESEMBER | H7: JANUARI
A11: 1 | B11: PENERIMAAN | C11: ='[1]Estimasi Penerimaan'!D29 -> 522600000 | D11: ='[1]Estimasi Penerimaan'!E29 -> 322000000 | E11: ='[1]Estimasi Penerimaan'!F29 -> 322000000 | F11: ='[1]Estimasi Penerimaan'!G29 -> 322000000 | G11: ='[1]Estimasi Penerimaan'!H29 -> 322000000 | H11: ='[1]Estimasi Penerimaan'!I29 -> 322000000 | I11: ='[1]Estimasi Penerimaan'!J29 -> 0 | J11: =SUM(C11:I11)+[4]Rekapitulasi!$J$11 -> 5167600000
A13: 2 | B13: PENGELUARAN | C13: ='[1]Rencana Alokasi Anggaran'!E111 -> 4576850000 | D13: ='[1]Rencana Alokasi Anggaran'!F111 -> 4 | E13: ='[1]Rencana Alokasi Anggaran'!G111 -> 5 | F13: ='[1]Rencana Alokasi Anggaran'!H111 -> 6 | G13: ='[1]Rencana Alokasi Anggaran'!I111 -> 7 | H13: ='[1]Rencana Alokasi Anggaran'!J111 -> 8 | J13: =SUM(C13:I13)+[4]Rekapitulasi!$J$13 -> 4582550089
B17: TOTAL | C17: =C11-C13 -> -4054250000 | D17: =D11-D13 -> 321999996 | E17: =E11-E13 -> 321999995 | F17: =F11-F13 -> 321999994 | G17: =G11-G13 -> 321999993 | H17: =H11-H13 -> 321999992 | I17: =I11-I13 -> 0 | J17: =J11-J13 -> 585049911
